BEGIN:VCALENDAR
VERSION:2.0
PRODID:-//Born Buffalo - ECPv6.15.20//NONSGML v1.0//EN
CALSCALE:GREGORIAN
METHOD:PUBLISH
X-WR-CALNAME:Born Buffalo
X-ORIGINAL-URL:https://bornbuffalo.com
X-WR-CALDESC:Events for Born Buffalo
REFRESH-INTERVAL;VALUE=DURATION:PT1H
X-Robots-Tag:noindex
X-PUBLISHED-TTL:PT1H
BEGIN:VTIMEZONE
TZID:America/New_York
BEGIN:DAYLIGHT
TZOFFSETFROM:-0500
TZOFFSETTO:-0400
TZNAME:EDT
DTSTART:20230312T070000
END:DAYLIGHT
BEGIN:STANDARD
TZOFFSETFROM:-0400
TZOFFSETTO:-0500
TZNAME:EST
DTSTART:20231105T060000
END:STANDARD
BEGIN:DAYLIGHT
TZOFFSETFROM:-0500
TZOFFSETTO:-0400
TZNAME:EDT
DTSTART:20240310T070000
END:DAYLIGHT
BEGIN:STANDARD
TZOFFSETFROM:-0400
TZOFFSETTO:-0500
TZNAME:EST
DTSTART:20241103T060000
END:STANDARD
BEGIN:DAYLIGHT
TZOFFSETFROM:-0500
TZOFFSETTO:-0400
TZNAME:EDT
DTSTART:20250309T070000
END:DAYLIGHT
BEGIN:STANDARD
TZOFFSETFROM:-0400
TZOFFSETTO:-0500
TZNAME:EST
DTSTART:20251102T060000
END:STANDARD
END:VTIMEZONE
BEGIN:VEVENT
DTSTART;TZID=America/New_York:20240926T180000
DTEND;TZID=America/New_York:20240926T220000
DTSTAMP:20260425T084715
CREATED:20240910T132916Z
LAST-MODIFIED:20240910T132955Z
UID:16331-1727373600-1727388000@bornbuffalo.com
SUMMARY:The Evil Buffalo Experience
DESCRIPTION:The Evil Buffalo Experience\nBuffalo’s Horrific History\n\nWe’ve collected Buffalo’s 7 most notorious examples of murder\, mystery and mayhem for you to enjoy this Halloween season. These eight amazing stories are brought to life on a lantern-lit tour inside an abandoned grain silo. Each story is graphically depicted in a huge chalk mural inside the silo. \nThe Evil Stories\n\nCostumed guides will bring to life the deadly and amazing stories spanning more than 350 years of local history during this 50 minute indoor walking tour. The stories are graphically depicted by giant chalk hand drawn murals created by a local artist exclusively for this event. \nStories include: \n-A local Jack the Ripper Suspect \n-When Buffalo was burned to the ground \n-A Ouija Board love-triangle topless model murder \nPlus many others! \nTours\n\nTours are offered at the massive abandoned grain silo located at RiverWorks on Thursdays\, Fridays\, Saturdays and Sundays in late September and throughout October at various times. Tours are $25 per person and must be purchased in advance on line as capacity is limited! \nGet Tickets!
URL:https://bornbuffalo.com/event/the-evil-buffalo-experience-2/
LOCATION:Bufffalo Riverworks\, 359 Ganson St.\, Buffalo\, 14203\, United States
CATEGORIES:Art Event,Buffalo Event,Nightlife,Speaker,Tour
ATTACH;FMTTYPE=image/png:https://bornbuffalo.com/wp-content/uploads/2024/09/Evil-Buffalo-2-1.png
END:VEVENT
BEGIN:VEVENT
DTSTART;TZID=America/New_York:20240926T180000
DTEND;TZID=America/New_York:20240926T220000
DTSTAMP:20260425T084715
CREATED:20240910T132916Z
LAST-MODIFIED:20240910T132955Z
UID:16331-1727373600-1727388000@bornbuffalo.com
SUMMARY:The Evil Buffalo Experience
DESCRIPTION:The Evil Buffalo Experience\nBuffalo’s Horrific History\n\nWe’ve collected Buffalo’s 7 most notorious examples of murder\, mystery and mayhem for you to enjoy this Halloween season. These eight amazing stories are brought to life on a lantern-lit tour inside an abandoned grain silo. Each story is graphically depicted in a huge chalk mural inside the silo. \nThe Evil Stories\n\nCostumed guides will bring to life the deadly and amazing stories spanning more than 350 years of local history during this 50 minute indoor walking tour. The stories are graphically depicted by giant chalk hand drawn murals created by a local artist exclusively for this event. \nStories include: \n-A local Jack the Ripper Suspect \n-When Buffalo was burned to the ground \n-A Ouija Board love-triangle topless model murder \nPlus many others! \nTours\n\nTours are offered at the massive abandoned grain silo located at RiverWorks on Thursdays\, Fridays\, Saturdays and Sundays in late September and throughout October at various times. Tours are $25 per person and must be purchased in advance on line as capacity is limited! \nGet Tickets!
URL:https://bornbuffalo.com/event/the-evil-buffalo-experience-2/
LOCATION:Bufffalo Riverworks\, 359 Ganson St.\, Buffalo\, 14203\, United States
CATEGORIES:Art Event,Buffalo Event,Nightlife,Speaker,Tour
ATTACH;FMTTYPE=image/png:https://bornbuffalo.com/wp-content/uploads/2024/09/Evil-Buffalo-2-1.png
END:VEVENT
BEGIN:VEVENT
DTSTART;TZID=America/New_York:20241027T160000
DTEND;TZID=America/New_York:20241027T210000
DTSTAMP:20260425T084715
CREATED:20240907T134543Z
LAST-MODIFIED:20240909T135032Z
UID:16035-1730044800-1730062800@bornbuffalo.com
SUMMARY:Cosplay Photo Night
DESCRIPTION:Cosplay Photo Night\n\nOctober 27\, 4:00 pm – 9:00 pm\nCost: $30\n\nCalling all Cosplayers and Photographers! We welcome you to an evening where cosplayers and photographers join forces to create some magic inside our lush Botanical Gardens. Dress to impress and bring your most creative ideas and photographers and use our beautiful conservatory as your canvas. The event will take place from 4pm to 9pm and will give you opportunity for both daytime photos and evening photos with special lighting effects. Our newest exhibit\, Mutation Invasion: Flesh-eating Flora will make for an even more interesting backdrop filled with carnivorous plants and mutated plant sculptures. Food and beverage from the Grazeful Gatherer and the Buffalo Bubble Bar will be available for purchase. Guests are encouraged to explore the conservatory in between photoshoots\, connect and socialize\, and enjoy the food and beverages. \nGuidelines and Photography Policy:\n\nCostume changes are permitted\, but must be done so in the restrooms.\nSmall props are permitted but must remain with you and your party at all times.\nTripods are permitted during this special night only.\nBe mindful of you and the guests around you. Pathways must remain clear and open and all spaces must be shared.\nPets are not permitted.\nFurniture and large props are not permitted.\nWe do not allow drone photography inside.\nThe Botanical Gardens’ plants\, arrangements\, exhibits\, benches\, chairs\, tables\, signage etc. are not to be moved\, walked on\, or disturbed in any way. Any destruction will be at the cost of the guest.\nWe reserve the right to ask anyone who appears to be intoxicated to leave without a refund.\nSome exhibits or special events may be taking place on the day of your reservation; therefore\, some rooms may be unavailable or altered.
URL:https://bornbuffalo.com/event/cosplay-photo-night/
LOCATION:Botanical Gardens\, 2655 South Park Avenue\, Buffalo\, NY\, 14218-1526\, United States
CATEGORIES:Art Event,Buffalo Event,Photography,Workshop
ATTACH;FMTTYPE=image/jpeg:https://bornbuffalo.com/wp-content/uploads/2024/09/Cosplay-Photo-Night-Identity-2048x1365-1.jpg
END:VEVENT
BEGIN:VEVENT
DTSTART;TZID=America/New_York:20240926T180000
DTEND;TZID=America/New_York:20240926T220000
DTSTAMP:20260425T084715
CREATED:20240910T132916Z
LAST-MODIFIED:20240910T132955Z
UID:16331-1727373600-1727388000@bornbuffalo.com
SUMMARY:The Evil Buffalo Experience
DESCRIPTION:The Evil Buffalo Experience\nBuffalo’s Horrific History\n\nWe’ve collected Buffalo’s 7 most notorious examples of murder\, mystery and mayhem for you to enjoy this Halloween season. These eight amazing stories are brought to life on a lantern-lit tour inside an abandoned grain silo. Each story is graphically depicted in a huge chalk mural inside the silo. \nThe Evil Stories\n\nCostumed guides will bring to life the deadly and amazing stories spanning more than 350 years of local history during this 50 minute indoor walking tour. The stories are graphically depicted by giant chalk hand drawn murals created by a local artist exclusively for this event. \nStories include: \n-A local Jack the Ripper Suspect \n-When Buffalo was burned to the ground \n-A Ouija Board love-triangle topless model murder \nPlus many others! \nTours\n\nTours are offered at the massive abandoned grain silo located at RiverWorks on Thursdays\, Fridays\, Saturdays and Sundays in late September and throughout October at various times. Tours are $25 per person and must be purchased in advance on line as capacity is limited! \nGet Tickets!
URL:https://bornbuffalo.com/event/the-evil-buffalo-experience-2/
LOCATION:Bufffalo Riverworks\, 359 Ganson St.\, Buffalo\, 14203\, United States
CATEGORIES:Art Event,Buffalo Event,Nightlife,Speaker,Tour
ATTACH;FMTTYPE=image/png:https://bornbuffalo.com/wp-content/uploads/2024/09/Evil-Buffalo-2-1.png
END:VEVENT
BEGIN:VEVENT
DTSTART;TZID=America/New_York:20240926T180000
DTEND;TZID=America/New_York:20240926T220000
DTSTAMP:20260425T084715
CREATED:20240910T132916Z
LAST-MODIFIED:20240910T132955Z
UID:16331-1727373600-1727388000@bornbuffalo.com
SUMMARY:The Evil Buffalo Experience
DESCRIPTION:The Evil Buffalo Experience\nBuffalo’s Horrific History\n\nWe’ve collected Buffalo’s 7 most notorious examples of murder\, mystery and mayhem for you to enjoy this Halloween season. These eight amazing stories are brought to life on a lantern-lit tour inside an abandoned grain silo. Each story is graphically depicted in a huge chalk mural inside the silo. \nThe Evil Stories\n\nCostumed guides will bring to life the deadly and amazing stories spanning more than 350 years of local history during this 50 minute indoor walking tour. The stories are graphically depicted by giant chalk hand drawn murals created by a local artist exclusively for this event. \nStories include: \n-A local Jack the Ripper Suspect \n-When Buffalo was burned to the ground \n-A Ouija Board love-triangle topless model murder \nPlus many others! \nTours\n\nTours are offered at the massive abandoned grain silo located at RiverWorks on Thursdays\, Fridays\, Saturdays and Sundays in late September and throughout October at various times. Tours are $25 per person and must be purchased in advance on line as capacity is limited! \nGet Tickets!
URL:https://bornbuffalo.com/event/the-evil-buffalo-experience-2/
LOCATION:Bufffalo Riverworks\, 359 Ganson St.\, Buffalo\, 14203\, United States
CATEGORIES:Art Event,Buffalo Event,Nightlife,Speaker,Tour
ATTACH;FMTTYPE=image/png:https://bornbuffalo.com/wp-content/uploads/2024/09/Evil-Buffalo-2-1.png
END:VEVENT
BEGIN:VEVENT
DTSTART;TZID=America/New_York:20240913T180000
DTEND;TZID=America/New_York:20240913T193000
DTSTAMP:20260425T084715
CREATED:20240910T112129Z
LAST-MODIFIED:20240910T112145Z
UID:16268-1726250400-1726255800@bornbuffalo.com
SUMMARY:Tipsy Crafts (Ages 21+)
DESCRIPTION:Tipsy Crafts (Ages 21+)\n\n\n\n6 pm – 7:30 pm EDT \n\n\n\n\n\n\n\n\n\n\n\n\nA class taking place in Studio B. Photo by Jeff Mace.\n\n\n\n\n\n\n\n\n\n$55 per class (Buffalo AKG members save 15%!)\nWilson Town Square\, Knox Building \nTreat yourself! Join us for fun make-and-take projects. Meet new crafters or sign up with a friend. Registration price includes one alcoholic beverage from Cornelia to enjoy during the class; nonalcoholic options are available. \nFridays\, September 13\, 27; October 11\, 25; November 8\, 22; December 13 \nSeptember 13 and 27: Cyanotypes—Make a unique print using light and found objects!\nOctober 11 and 25: Window Painting—Create an ornamental sun catcher with glass paint and Plexi.\nNovember 8 and 22: Mini-Hoop Embroidery—Explore the art of needlepoint and stitch while you sip.\nDecember 13: Holiday Ornaments—Decorate in style with your own homemade holiday bling. \nREGISTER
URL:https://bornbuffalo.com/event/tipsy-crafts-ages-21/
LOCATION:Buffalo AKG Art Museum\, 1285 Elmwood Avenue\, Buffalo\, NY\, 14222\, United States
CATEGORIES:Art Event,Buffalo Event,Nightlife,Workshop
ATTACH;FMTTYPE=image/jpeg:https://bornbuffalo.com/wp-content/uploads/2024/09/2023.06.02_friendsandfamilyakgopening-87.jpg
END:VEVENT
BEGIN:VEVENT
DTSTART;TZID=America/New_York:20240924T160000
DTEND;TZID=America/New_York:20240924T190000
DTSTAMP:20260425T084715
CREATED:20240907T132004Z
LAST-MODIFIED:20240909T134720Z
UID:16009-1727193600-1727204400@bornbuffalo.com
SUMMARY:Photography Night
DESCRIPTION:Photography Night\n4-7pm\nFREE for Members and children under 2\nGuest Passes not valid for Photography Nights\n \nMake your reservation today! Bring along your favorite photographer and join us for Photography Nights to get the most out of your photo experience at the Botanical Gardens! We are opening up the Botanical Gardens for the public to take family photos\, engagement shoots\, senior portraits\, maternity photos\, baby photos or photos of any special occasion at a reduced rate.\n\nOur Photography Policy (below) will apply during your reservation. Please keep in mind that Photography Nights provide a shared space and you must be respectful of other guests.\n\n\nKEEP IN MIND! As the sun begins to set in the fall and winter\, the Botanical Gardens conservatory will also lose daylight as we are an open glass greenhouse. We will be providing our house lights to create a lovely experience during sunset\, but please keep this in mind as both a photographer or model. \nIf you would like to take posed photography outside of these days and times\, a Photography rental reservation is required. To inquire\, please contact events@buffalogardens.com. \n\nPhotography Policy:\n\nPets are not permitted.\nFurniture and large props are not permitted.\nWe do not allow drone photography inside.\nThe Botanical Gardens’ plants\, arrangements\, exhibits\, benches\, chairs\, tables\, signage etc. are not to be moved\, walked on\, or disturbed in any way. Any destruction will be at the cost of the guest.\nIf your party is late for your reservation\, you will be held to the remaining time of your reservation or you can reschedule for a full session.\nNo alcoholic beverages are allowed in the facility. We reserve the right to ask anyone who appears to be intoxicated to leave without a refund.\nSome exhibits or special events may be taking place on the day of your reservation; therefore\, some rooms may be unavailable or altered.\n\n\nUpcoming Events\n \nSeptember 24\, 4:00 pm – 7:00 pm \nOctober 15\, 4:00 pm – 7:00 pm \nNovember 21\, 4:00 pm – 7:00 pm \nNovember 26\, 4:00 pm – 7:00 pm \nDecember 5\, 4:00 pm – 7:00 pm \nDecember 10\, 4:00 pm – 7:00 pm \nDecember 17\, 4:00 pm – 7:00 pm
URL:https://bornbuffalo.com/event/photography-night/
LOCATION:Botanical Gardens\, 2655 South Park Avenue\, Buffalo\, NY\, 14218-1526\, United States
CATEGORIES:Art Event,Buffalo Event,Family,Photography,Workshop
ATTACH;FMTTYPE=image/png:https://bornbuffalo.com/wp-content/uploads/2024/09/Photography-Days-Web.png
END:VEVENT
BEGIN:VEVENT
DTSTART;TZID=America/New_York:20240913T180000
DTEND;TZID=America/New_York:20240913T193000
DTSTAMP:20260425T084715
CREATED:20240910T112129Z
LAST-MODIFIED:20240910T112145Z
UID:16268-1726250400-1726255800@bornbuffalo.com
SUMMARY:Tipsy Crafts (Ages 21+)
DESCRIPTION:Tipsy Crafts (Ages 21+)\n\n\n\n6 pm – 7:30 pm EDT \n\n\n\n\n\n\n\n\n\n\n\n\nA class taking place in Studio B. Photo by Jeff Mace.\n\n\n\n\n\n\n\n\n\n$55 per class (Buffalo AKG members save 15%!)\nWilson Town Square\, Knox Building \nTreat yourself! Join us for fun make-and-take projects. Meet new crafters or sign up with a friend. Registration price includes one alcoholic beverage from Cornelia to enjoy during the class; nonalcoholic options are available. \nFridays\, September 13\, 27; October 11\, 25; November 8\, 22; December 13 \nSeptember 13 and 27: Cyanotypes—Make a unique print using light and found objects!\nOctober 11 and 25: Window Painting—Create an ornamental sun catcher with glass paint and Plexi.\nNovember 8 and 22: Mini-Hoop Embroidery—Explore the art of needlepoint and stitch while you sip.\nDecember 13: Holiday Ornaments—Decorate in style with your own homemade holiday bling. \nREGISTER
URL:https://bornbuffalo.com/event/tipsy-crafts-ages-21/
LOCATION:Buffalo AKG Art Museum\, 1285 Elmwood Avenue\, Buffalo\, NY\, 14222\, United States
CATEGORIES:Art Event,Buffalo Event,Nightlife,Workshop
ATTACH;FMTTYPE=image/jpeg:https://bornbuffalo.com/wp-content/uploads/2024/09/2023.06.02_friendsandfamilyakgopening-87.jpg
END:VEVENT
BEGIN:VEVENT
DTSTART;TZID=America/New_York:20240924T160000
DTEND;TZID=America/New_York:20240924T190000
DTSTAMP:20260425T084715
CREATED:20240907T132004Z
LAST-MODIFIED:20240909T134720Z
UID:16009-1727193600-1727204400@bornbuffalo.com
SUMMARY:Photography Night
DESCRIPTION:Photography Night\n4-7pm\nFREE for Members and children under 2\nGuest Passes not valid for Photography Nights\n \nMake your reservation today! Bring along your favorite photographer and join us for Photography Nights to get the most out of your photo experience at the Botanical Gardens! We are opening up the Botanical Gardens for the public to take family photos\, engagement shoots\, senior portraits\, maternity photos\, baby photos or photos of any special occasion at a reduced rate.\n\nOur Photography Policy (below) will apply during your reservation. Please keep in mind that Photography Nights provide a shared space and you must be respectful of other guests.\n\n\nKEEP IN MIND! As the sun begins to set in the fall and winter\, the Botanical Gardens conservatory will also lose daylight as we are an open glass greenhouse. We will be providing our house lights to create a lovely experience during sunset\, but please keep this in mind as both a photographer or model. \nIf you would like to take posed photography outside of these days and times\, a Photography rental reservation is required. To inquire\, please contact events@buffalogardens.com. \n\nPhotography Policy:\n\nPets are not permitted.\nFurniture and large props are not permitted.\nWe do not allow drone photography inside.\nThe Botanical Gardens’ plants\, arrangements\, exhibits\, benches\, chairs\, tables\, signage etc. are not to be moved\, walked on\, or disturbed in any way. Any destruction will be at the cost of the guest.\nIf your party is late for your reservation\, you will be held to the remaining time of your reservation or you can reschedule for a full session.\nNo alcoholic beverages are allowed in the facility. We reserve the right to ask anyone who appears to be intoxicated to leave without a refund.\nSome exhibits or special events may be taking place on the day of your reservation; therefore\, some rooms may be unavailable or altered.\n\n\nUpcoming Events\n \nSeptember 24\, 4:00 pm – 7:00 pm \nOctober 15\, 4:00 pm – 7:00 pm \nNovember 21\, 4:00 pm – 7:00 pm \nNovember 26\, 4:00 pm – 7:00 pm \nDecember 5\, 4:00 pm – 7:00 pm \nDecember 10\, 4:00 pm – 7:00 pm \nDecember 17\, 4:00 pm – 7:00 pm
URL:https://bornbuffalo.com/event/photography-night/
LOCATION:Botanical Gardens\, 2655 South Park Avenue\, Buffalo\, NY\, 14218-1526\, United States
CATEGORIES:Art Event,Buffalo Event,Family,Photography,Workshop
ATTACH;FMTTYPE=image/png:https://bornbuffalo.com/wp-content/uploads/2024/09/Photography-Days-Web.png
END:VEVENT
BEGIN:VEVENT
DTSTART;TZID=America/New_York:20240924T160000
DTEND;TZID=America/New_York:20240924T190000
DTSTAMP:20260425T084715
CREATED:20240907T132004Z
LAST-MODIFIED:20240909T134720Z
UID:16009-1727193600-1727204400@bornbuffalo.com
SUMMARY:Photography Night
DESCRIPTION:Photography Night\n4-7pm\nFREE for Members and children under 2\nGuest Passes not valid for Photography Nights\n \nMake your reservation today! Bring along your favorite photographer and join us for Photography Nights to get the most out of your photo experience at the Botanical Gardens! We are opening up the Botanical Gardens for the public to take family photos\, engagement shoots\, senior portraits\, maternity photos\, baby photos or photos of any special occasion at a reduced rate.\n\nOur Photography Policy (below) will apply during your reservation. Please keep in mind that Photography Nights provide a shared space and you must be respectful of other guests.\n\n\nKEEP IN MIND! As the sun begins to set in the fall and winter\, the Botanical Gardens conservatory will also lose daylight as we are an open glass greenhouse. We will be providing our house lights to create a lovely experience during sunset\, but please keep this in mind as both a photographer or model. \nIf you would like to take posed photography outside of these days and times\, a Photography rental reservation is required. To inquire\, please contact events@buffalogardens.com. \n\nPhotography Policy:\n\nPets are not permitted.\nFurniture and large props are not permitted.\nWe do not allow drone photography inside.\nThe Botanical Gardens’ plants\, arrangements\, exhibits\, benches\, chairs\, tables\, signage etc. are not to be moved\, walked on\, or disturbed in any way. Any destruction will be at the cost of the guest.\nIf your party is late for your reservation\, you will be held to the remaining time of your reservation or you can reschedule for a full session.\nNo alcoholic beverages are allowed in the facility. We reserve the right to ask anyone who appears to be intoxicated to leave without a refund.\nSome exhibits or special events may be taking place on the day of your reservation; therefore\, some rooms may be unavailable or altered.\n\n\nUpcoming Events\n \nSeptember 24\, 4:00 pm – 7:00 pm \nOctober 15\, 4:00 pm – 7:00 pm \nNovember 21\, 4:00 pm – 7:00 pm \nNovember 26\, 4:00 pm – 7:00 pm \nDecember 5\, 4:00 pm – 7:00 pm \nDecember 10\, 4:00 pm – 7:00 pm \nDecember 17\, 4:00 pm – 7:00 pm
URL:https://bornbuffalo.com/event/photography-night/
LOCATION:Botanical Gardens\, 2655 South Park Avenue\, Buffalo\, NY\, 14218-1526\, United States
CATEGORIES:Art Event,Buffalo Event,Family,Photography,Workshop
ATTACH;FMTTYPE=image/png:https://bornbuffalo.com/wp-content/uploads/2024/09/Photography-Days-Web.png
END:VEVENT
BEGIN:VEVENT
DTSTART;TZID=America/New_York:20240924T160000
DTEND;TZID=America/New_York:20240924T190000
DTSTAMP:20260425T084715
CREATED:20240907T132004Z
LAST-MODIFIED:20240909T134720Z
UID:16009-1727193600-1727204400@bornbuffalo.com
SUMMARY:Photography Night
DESCRIPTION:Photography Night\n4-7pm\nFREE for Members and children under 2\nGuest Passes not valid for Photography Nights\n \nMake your reservation today! Bring along your favorite photographer and join us for Photography Nights to get the most out of your photo experience at the Botanical Gardens! We are opening up the Botanical Gardens for the public to take family photos\, engagement shoots\, senior portraits\, maternity photos\, baby photos or photos of any special occasion at a reduced rate.\n\nOur Photography Policy (below) will apply during your reservation. Please keep in mind that Photography Nights provide a shared space and you must be respectful of other guests.\n\n\nKEEP IN MIND! As the sun begins to set in the fall and winter\, the Botanical Gardens conservatory will also lose daylight as we are an open glass greenhouse. We will be providing our house lights to create a lovely experience during sunset\, but please keep this in mind as both a photographer or model. \nIf you would like to take posed photography outside of these days and times\, a Photography rental reservation is required. To inquire\, please contact events@buffalogardens.com. \n\nPhotography Policy:\n\nPets are not permitted.\nFurniture and large props are not permitted.\nWe do not allow drone photography inside.\nThe Botanical Gardens’ plants\, arrangements\, exhibits\, benches\, chairs\, tables\, signage etc. are not to be moved\, walked on\, or disturbed in any way. Any destruction will be at the cost of the guest.\nIf your party is late for your reservation\, you will be held to the remaining time of your reservation or you can reschedule for a full session.\nNo alcoholic beverages are allowed in the facility. We reserve the right to ask anyone who appears to be intoxicated to leave without a refund.\nSome exhibits or special events may be taking place on the day of your reservation; therefore\, some rooms may be unavailable or altered.\n\n\nUpcoming Events\n \nSeptember 24\, 4:00 pm – 7:00 pm \nOctober 15\, 4:00 pm – 7:00 pm \nNovember 21\, 4:00 pm – 7:00 pm \nNovember 26\, 4:00 pm – 7:00 pm \nDecember 5\, 4:00 pm – 7:00 pm \nDecember 10\, 4:00 pm – 7:00 pm \nDecember 17\, 4:00 pm – 7:00 pm
URL:https://bornbuffalo.com/event/photography-night/
LOCATION:Botanical Gardens\, 2655 South Park Avenue\, Buffalo\, NY\, 14218-1526\, United States
CATEGORIES:Art Event,Buffalo Event,Family,Photography,Workshop
ATTACH;FMTTYPE=image/png:https://bornbuffalo.com/wp-content/uploads/2024/09/Photography-Days-Web.png
END:VEVENT
BEGIN:VEVENT
DTSTART;TZID=America/New_York:20240913T180000
DTEND;TZID=America/New_York:20240913T193000
DTSTAMP:20260425T084715
CREATED:20240910T112129Z
LAST-MODIFIED:20240910T112145Z
UID:16268-1726250400-1726255800@bornbuffalo.com
SUMMARY:Tipsy Crafts (Ages 21+)
DESCRIPTION:Tipsy Crafts (Ages 21+)\n\n\n\n6 pm – 7:30 pm EDT \n\n\n\n\n\n\n\n\n\n\n\n\nA class taking place in Studio B. Photo by Jeff Mace.\n\n\n\n\n\n\n\n\n\n$55 per class (Buffalo AKG members save 15%!)\nWilson Town Square\, Knox Building \nTreat yourself! Join us for fun make-and-take projects. Meet new crafters or sign up with a friend. Registration price includes one alcoholic beverage from Cornelia to enjoy during the class; nonalcoholic options are available. \nFridays\, September 13\, 27; October 11\, 25; November 8\, 22; December 13 \nSeptember 13 and 27: Cyanotypes—Make a unique print using light and found objects!\nOctober 11 and 25: Window Painting—Create an ornamental sun catcher with glass paint and Plexi.\nNovember 8 and 22: Mini-Hoop Embroidery—Explore the art of needlepoint and stitch while you sip.\nDecember 13: Holiday Ornaments—Decorate in style with your own homemade holiday bling. \nREGISTER
URL:https://bornbuffalo.com/event/tipsy-crafts-ages-21/
LOCATION:Buffalo AKG Art Museum\, 1285 Elmwood Avenue\, Buffalo\, NY\, 14222\, United States
CATEGORIES:Art Event,Buffalo Event,Nightlife,Workshop
ATTACH;FMTTYPE=image/jpeg:https://bornbuffalo.com/wp-content/uploads/2024/09/2023.06.02_friendsandfamilyakgopening-87.jpg
END:VEVENT
BEGIN:VEVENT
DTSTART;TZID=America/New_York:20240924T160000
DTEND;TZID=America/New_York:20240924T190000
DTSTAMP:20260425T084715
CREATED:20240907T132004Z
LAST-MODIFIED:20240909T134720Z
UID:16009-1727193600-1727204400@bornbuffalo.com
SUMMARY:Photography Night
DESCRIPTION:Photography Night\n4-7pm\nFREE for Members and children under 2\nGuest Passes not valid for Photography Nights\n \nMake your reservation today! Bring along your favorite photographer and join us for Photography Nights to get the most out of your photo experience at the Botanical Gardens! We are opening up the Botanical Gardens for the public to take family photos\, engagement shoots\, senior portraits\, maternity photos\, baby photos or photos of any special occasion at a reduced rate.\n\nOur Photography Policy (below) will apply during your reservation. Please keep in mind that Photography Nights provide a shared space and you must be respectful of other guests.\n\n\nKEEP IN MIND! As the sun begins to set in the fall and winter\, the Botanical Gardens conservatory will also lose daylight as we are an open glass greenhouse. We will be providing our house lights to create a lovely experience during sunset\, but please keep this in mind as both a photographer or model. \nIf you would like to take posed photography outside of these days and times\, a Photography rental reservation is required. To inquire\, please contact events@buffalogardens.com. \n\nPhotography Policy:\n\nPets are not permitted.\nFurniture and large props are not permitted.\nWe do not allow drone photography inside.\nThe Botanical Gardens’ plants\, arrangements\, exhibits\, benches\, chairs\, tables\, signage etc. are not to be moved\, walked on\, or disturbed in any way. Any destruction will be at the cost of the guest.\nIf your party is late for your reservation\, you will be held to the remaining time of your reservation or you can reschedule for a full session.\nNo alcoholic beverages are allowed in the facility. We reserve the right to ask anyone who appears to be intoxicated to leave without a refund.\nSome exhibits or special events may be taking place on the day of your reservation; therefore\, some rooms may be unavailable or altered.\n\n\nUpcoming Events\n \nSeptember 24\, 4:00 pm – 7:00 pm \nOctober 15\, 4:00 pm – 7:00 pm \nNovember 21\, 4:00 pm – 7:00 pm \nNovember 26\, 4:00 pm – 7:00 pm \nDecember 5\, 4:00 pm – 7:00 pm \nDecember 10\, 4:00 pm – 7:00 pm \nDecember 17\, 4:00 pm – 7:00 pm
URL:https://bornbuffalo.com/event/photography-night/
LOCATION:Botanical Gardens\, 2655 South Park Avenue\, Buffalo\, NY\, 14218-1526\, United States
CATEGORIES:Art Event,Buffalo Event,Family,Photography,Workshop
ATTACH;FMTTYPE=image/png:https://bornbuffalo.com/wp-content/uploads/2024/09/Photography-Days-Web.png
END:VEVENT
END:VCALENDAR