BEGIN:VCALENDAR
VERSION:2.0
PRODID:-//Born Buffalo - ECPv6.15.20//NONSGML v1.0//EN
CALSCALE:GREGORIAN
METHOD:PUBLISH
X-WR-CALNAME:Born Buffalo
X-ORIGINAL-URL:https://bornbuffalo.com
X-WR-CALDESC:Events for Born Buffalo
REFRESH-INTERVAL;VALUE=DURATION:PT1H
X-Robots-Tag:noindex
X-PUBLISHED-TTL:PT1H
BEGIN:VTIMEZONE
TZID:America/New_York
BEGIN:DAYLIGHT
TZOFFSETFROM:-0500
TZOFFSETTO:-0400
TZNAME:EDT
DTSTART:20220313T070000
END:DAYLIGHT
BEGIN:STANDARD
TZOFFSETFROM:-0400
TZOFFSETTO:-0500
TZNAME:EST
DTSTART:20221106T060000
END:STANDARD
BEGIN:DAYLIGHT
TZOFFSETFROM:-0500
TZOFFSETTO:-0400
TZNAME:EDT
DTSTART:20230312T070000
END:DAYLIGHT
BEGIN:STANDARD
TZOFFSETFROM:-0400
TZOFFSETTO:-0500
TZNAME:EST
DTSTART:20231105T060000
END:STANDARD
BEGIN:DAYLIGHT
TZOFFSETFROM:-0500
TZOFFSETTO:-0400
TZNAME:EDT
DTSTART:20240310T070000
END:DAYLIGHT
BEGIN:STANDARD
TZOFFSETFROM:-0400
TZOFFSETTO:-0500
TZNAME:EST
DTSTART:20241103T060000
END:STANDARD
END:VTIMEZONE
BEGIN:VEVENT
DTSTART;VALUE=DATE:20230526
DTEND;VALUE=DATE:20230530
DTSTAMP:20260421T234430
CREATED:20230526T155258Z
LAST-MODIFIED:20230526T155258Z
UID:1045-1685059200-1685404799@bornbuffalo.com
SUMMARY:Memorial Day
DESCRIPTION:Buffalo\, NY is buzzing with excitement this Memorial Day weekend. Whether you’re a local or just visiting for the occasion\, there’s something for everyone to enjoy throughout the city and beyond! \nMemorial Day parades will be taking place all over Buffalo from Tonawanda/Kenmore to Depew\, Jamestown\, the South Towns\, Orchard Park\, Niagara Falls and even the Buffalo Memorial Day Ride. Participating in these parades is one of many ways to honor our fallen heroes and recognize their selfless service. \nThere are also plenty of other events going on around town this weekend that are sure to make your holiday break unforgettable. Those looking for fun with family and friends can visit Memorial Day Stay and Play at Becker Farms\, or the Red\, White and Blue Balloon Festival at Letchworth State Park. \nNo matter how you choose to commemorate this day\, it’s important to take a moment to remember those who served our country with pride and made the ultimate sacrifice for our freedom. This Memorial Day weekend in Buffalo is a great time to celebrate their legacy of courage and valor. With plenty of opportunities for fun events all around town\, there’s no better way to enjoy your holiday break while honoring the heroes of our nation!
URL:https://bornbuffalo.com/event/memorial-day/
LOCATION:NY
CATEGORIES:Buffalo Event
END:VEVENT
END:VCALENDAR