BEGIN:VCALENDAR
VERSION:2.0
PRODID:-//Born Buffalo - ECPv6.15.20//NONSGML v1.0//EN
CALSCALE:GREGORIAN
METHOD:PUBLISH
X-WR-CALNAME:Born Buffalo
X-ORIGINAL-URL:https://bornbuffalo.com
X-WR-CALDESC:Events for Born Buffalo
REFRESH-INTERVAL;VALUE=DURATION:PT1H
X-Robots-Tag:noindex
X-PUBLISHED-TTL:PT1H
BEGIN:VTIMEZONE
TZID:America/New_York
BEGIN:DAYLIGHT
TZOFFSETFROM:-0500
TZOFFSETTO:-0400
TZNAME:EDT
DTSTART:20220313T070000
END:DAYLIGHT
BEGIN:STANDARD
TZOFFSETFROM:-0400
TZOFFSETTO:-0500
TZNAME:EST
DTSTART:20221106T060000
END:STANDARD
BEGIN:DAYLIGHT
TZOFFSETFROM:-0500
TZOFFSETTO:-0400
TZNAME:EDT
DTSTART:20230312T070000
END:DAYLIGHT
BEGIN:STANDARD
TZOFFSETFROM:-0400
TZOFFSETTO:-0500
TZNAME:EST
DTSTART:20231105T060000
END:STANDARD
BEGIN:DAYLIGHT
TZOFFSETFROM:-0500
TZOFFSETTO:-0400
TZNAME:EDT
DTSTART:20240310T070000
END:DAYLIGHT
BEGIN:STANDARD
TZOFFSETFROM:-0400
TZOFFSETTO:-0500
TZNAME:EST
DTSTART:20241103T060000
END:STANDARD
END:VTIMEZONE
BEGIN:VEVENT
DTSTART;TZID=America/New_York:20230610T100000
DTEND;TZID=America/New_York:20230610T150000
DTSTAMP:20260422T012916
CREATED:20230531T172910Z
LAST-MODIFIED:20230531T172910Z
UID:1221-1686391200-1686409200@bornbuffalo.com
SUMMARY:Flea Market and SPCA Adoption Event
DESCRIPTION:The Niagara SPCA is hosting a Flea Market and Adoption Event! Vendors\, crafters\, and garage sellers are all welcome. Hot dogs will be available for $5 with your choice of pop or water included. There’ll also be a bake sale\, shaved ice\, kids games\, and more! \nCome to meet our adoptable dogs – you may just find your new best friend! Plus\, we’re offering special adoption discounts on this day only – don’t miss out!
URL:https://bornbuffalo.com/event/flea-market-and-spca-adoption-event/
LOCATION:Niagara County SPCA\, 2100 Lockport Road\, Niagara Falls\, NY\, United States
CATEGORIES:Buffalo Event
ATTACH;FMTTYPE=image/jpeg:https://bornbuffalo.com/wp-content/uploads/2023/05/pexels-matheus-bertelli-16652367-scaled.jpg
ORGANIZER;CN="Niagara County SPCA":MAILTO:frontdesk@niagaraspca.org
END:VEVENT
END:VCALENDAR