BEGIN:VCALENDAR
VERSION:2.0
PRODID:-//Born Buffalo - ECPv6.15.20//NONSGML v1.0//EN
CALSCALE:GREGORIAN
METHOD:PUBLISH
X-WR-CALNAME:Born Buffalo
X-ORIGINAL-URL:https://bornbuffalo.com
X-WR-CALDESC:Events for Born Buffalo
REFRESH-INTERVAL;VALUE=DURATION:PT1H
X-Robots-Tag:noindex
X-PUBLISHED-TTL:PT1H
BEGIN:VTIMEZONE
TZID:America/New_York
BEGIN:DAYLIGHT
TZOFFSETFROM:-0500
TZOFFSETTO:-0400
TZNAME:EDT
DTSTART:20220313T070000
END:DAYLIGHT
BEGIN:STANDARD
TZOFFSETFROM:-0400
TZOFFSETTO:-0500
TZNAME:EST
DTSTART:20221106T060000
END:STANDARD
BEGIN:DAYLIGHT
TZOFFSETFROM:-0500
TZOFFSETTO:-0400
TZNAME:EDT
DTSTART:20230312T070000
END:DAYLIGHT
BEGIN:STANDARD
TZOFFSETFROM:-0400
TZOFFSETTO:-0500
TZNAME:EST
DTSTART:20231105T060000
END:STANDARD
BEGIN:DAYLIGHT
TZOFFSETFROM:-0500
TZOFFSETTO:-0400
TZNAME:EDT
DTSTART:20240310T070000
END:DAYLIGHT
BEGIN:STANDARD
TZOFFSETFROM:-0400
TZOFFSETTO:-0500
TZNAME:EST
DTSTART:20241103T060000
END:STANDARD
END:VTIMEZONE
BEGIN:VEVENT
DTSTART;VALUE=DATE:20230617
DTEND;VALUE=DATE:20230619
DTSTAMP:20260422T012937
CREATED:20230615T180638Z
LAST-MODIFIED:20230615T180638Z
UID:1838-1686960000-1687132799@bornbuffalo.com
SUMMARY:Juneteenth Festival and Parade
DESCRIPTION:The Juneteenth Festival of Buffalo is more than just a holiday celebrating emancipation; it symbolizes community\, heritage\, and cultural pride. From its humble beginnings in 1976 as a culturally-relevant alternative to the country’s Bicentennial Celebration\, the festival has grown into a beloved tradition. \nIn the heart of Buffalo\, residents gather to appreciate African American culture through murals\, ethnic foods\, and entertainment\, culminating in a parade marching towards the viewing stage located at E. Parade and Genesee Streets. It’s a remarkable display of love\, strength\, and solidarity\, with the mission to actively preserve and promote African American heritage through educational and cultural activities that benefit the community as a whole. \nSave the date for the 48th annual Juneteenth Parade this upcoming Saturday\, June 17\, 2023. Witness four divisions of parade marchers\, beginning at Juneteenth of Buffalo Headquarters at 1517 Genesee Street at Moselle Street at 10:45 AM — a wondrous opportunity for families and friends to come together\, experience joy and upliftment\, and celebrate the remarkable juncture of the United States’ collective history. \nParade:June 17th\, 10:45am
URL:https://bornbuffalo.com/event/juneteenth-festival-and-parade/
LOCATION:NY
CATEGORIES:Buffalo Event
ATTACH;FMTTYPE=image/png:https://bornbuffalo.com/wp-content/uploads/2023/06/juneteenth.png
END:VEVENT
END:VCALENDAR