BEGIN:VCALENDAR
VERSION:2.0
PRODID:-//Born Buffalo - ECPv6.15.20//NONSGML v1.0//EN
CALSCALE:GREGORIAN
METHOD:PUBLISH
X-WR-CALNAME:Born Buffalo
X-ORIGINAL-URL:https://bornbuffalo.com
X-WR-CALDESC:Events for Born Buffalo
REFRESH-INTERVAL;VALUE=DURATION:PT1H
X-Robots-Tag:noindex
X-PUBLISHED-TTL:PT1H
BEGIN:VTIMEZONE
TZID:America/New_York
BEGIN:DAYLIGHT
TZOFFSETFROM:-0500
TZOFFSETTO:-0400
TZNAME:EDT
DTSTART:20220313T070000
END:DAYLIGHT
BEGIN:STANDARD
TZOFFSETFROM:-0400
TZOFFSETTO:-0500
TZNAME:EST
DTSTART:20221106T060000
END:STANDARD
BEGIN:DAYLIGHT
TZOFFSETFROM:-0500
TZOFFSETTO:-0400
TZNAME:EDT
DTSTART:20230312T070000
END:DAYLIGHT
BEGIN:STANDARD
TZOFFSETFROM:-0400
TZOFFSETTO:-0500
TZNAME:EST
DTSTART:20231105T060000
END:STANDARD
BEGIN:DAYLIGHT
TZOFFSETFROM:-0500
TZOFFSETTO:-0400
TZNAME:EDT
DTSTART:20240310T070000
END:DAYLIGHT
BEGIN:STANDARD
TZOFFSETFROM:-0400
TZOFFSETTO:-0500
TZNAME:EST
DTSTART:20241103T060000
END:STANDARD
END:VTIMEZONE
BEGIN:VEVENT
DTSTART;TZID=America/New_York:20230708T110000
DTEND;TZID=America/New_York:20230709T190000
DTSTAMP:20260422T013024
CREATED:20230706T145119Z
LAST-MODIFIED:20230706T145901Z
UID:2226-1688814000-1688929200@bornbuffalo.com
SUMMARY:Taste of Buffalo
DESCRIPTION:Join in the celebration of their anniversary at the highly anticipated 40th annual Taste of Buffalo\, presented by Tops. \nThe event is scheduled for Saturday\, July 8\, from 11 a.m. to 9 p.m.\, and Sunday\, July 9\, from 11 a.m. to 7 p.m. It’s an event you don’t want to miss! Experience the festival located on Delaware Avenue\, starting from Chippewa St. and extending into Niagara Square. With an exquisite array of culinary delights from Buffalo’s finest restaurants and food trucks\, complemented by local wines\, craft beers\, and captivating live music\, this event is sure to leave a lasting impression.
URL:https://bornbuffalo.com/event/taste-of-buffalo/
LOCATION:NY
CATEGORIES:Buffalo Event
ATTACH;FMTTYPE=image/jpeg:https://bornbuffalo.com/wp-content/uploads/2023/07/tasteofb.jpeg
ORGANIZER;CN="Taste of Buffalo":MAILTO:media@tasteofbuffalo.com
END:VEVENT
END:VCALENDAR