BEGIN:VCALENDAR
VERSION:2.0
PRODID:-//Born Buffalo - ECPv6.15.20//NONSGML v1.0//EN
CALSCALE:GREGORIAN
METHOD:PUBLISH
X-WR-CALNAME:Born Buffalo
X-ORIGINAL-URL:https://bornbuffalo.com
X-WR-CALDESC:Events for Born Buffalo
REFRESH-INTERVAL;VALUE=DURATION:PT1H
X-Robots-Tag:noindex
X-PUBLISHED-TTL:PT1H
BEGIN:VTIMEZONE
TZID:America/New_York
BEGIN:DAYLIGHT
TZOFFSETFROM:-0500
TZOFFSETTO:-0400
TZNAME:EDT
DTSTART:20230312T070000
END:DAYLIGHT
BEGIN:STANDARD
TZOFFSETFROM:-0400
TZOFFSETTO:-0500
TZNAME:EST
DTSTART:20231105T060000
END:STANDARD
BEGIN:DAYLIGHT
TZOFFSETFROM:-0500
TZOFFSETTO:-0400
TZNAME:EDT
DTSTART:20240310T070000
END:DAYLIGHT
BEGIN:STANDARD
TZOFFSETFROM:-0400
TZOFFSETTO:-0500
TZNAME:EST
DTSTART:20241103T060000
END:STANDARD
BEGIN:DAYLIGHT
TZOFFSETFROM:-0500
TZOFFSETTO:-0400
TZNAME:EDT
DTSTART:20250309T070000
END:DAYLIGHT
BEGIN:STANDARD
TZOFFSETFROM:-0400
TZOFFSETTO:-0500
TZNAME:EST
DTSTART:20251102T060000
END:STANDARD
END:VTIMEZONE
BEGIN:VEVENT
DTSTART;TZID=America/New_York:20240927T200000
DTEND;TZID=America/New_York:20240927T200000
DTSTAMP:20260425T174628
CREATED:20240910T202710Z
LAST-MODIFIED:20240910T202710Z
UID:16411-1727467200-1727467200@bornbuffalo.com
SUMMARY:Tom Segura: Come Together
DESCRIPTION:Tom Segura: Come Together\n\n\nFri / Sep 27\n\n\n8:00 PM EST\n\nBuy Tickets\nParking\n\n\nEvent Information\n\nTOM SEGURA ANNOUNCES 2nd LEG OF GLOBAL STAND-UP COMEDY TOUR ‘COME TOGETHER’ \nKEYBANK CENTER – BUFFALO\, NY \nFRIDAY\, SEPTEMBER 27\, 2024 \n\nToday one of the biggest touring comedians\, Tom Segura\, announced the second leg of his latest global stand-up comedy tour Tom Segura: Come Together. More than 20 additional shows are being added across North America for 2024 including a stop in Buffalo at KeyBank Center on September 27. Segura’s highly anticipated new hour of comedy has been selling out globally. His previous world tour\, I’m Coming Everywhere\, sold out venues across the world with over 300 shows. \n  \nTickets will be available via pre-sale starting Wednesday\, March 27 at 10 a.m. The general on sale will be Friday\, March 29 at 10 a.m. Ticket information can be found at TOMSEGURA.COM/TOUR. \n  \nTicket buyers in a select number of cities will have the option to purchase a Platinum charity ticket. Segura will donate a portion of the proceeds from these Platinum ticket sales to the World Central Kitchen\, a non-profit devoted to providing meals in the wake of natural disasters. For more information about World Central Kitchen please visit: https://wck.org/. The Event Organizer has priced these tickets according to their market value. Availability and pricing are subject to change. \n  \n“We are so grateful for this incredible support—it’s efforts like this that make World Central Kitchen’s work possible. Whether we’re responding to a hurricane\, wildfire\, or humanitarian crisis\, we are grateful to be fueled by people who share in our belief that a hot meal is so much more than just food…it’s hope and a sign that you aren’t alone. Gracias\, Tom!” – Chef José Andrés\, founder of World Central Kitchen \n  \nABOUT TOM SEGURA: \nActor/Comedian/Writer Tom Segura is one of the biggest names in the comedy business. He recently toured the world with over 300 shows on his I’m Coming Everywhere World Tour. He is best known for his Netflix specials Ball Hog (2020)\, Disgraceful (2018)\, Mostly Stories (2016)\, and Completely Normal (2014). His fifth Netflix special Sledgehammer released July 4\, 2023 and debuted at #1 on the streamer. In July 2022\, Segura released his New York Times Bestselling book I’d Like to Play Alone\, Please to wide praise with Forbes calling it “laugh out loud funny.” Paste Magazine described him as\, “…having a natural and capable storytelling ability\, one that lifts his narratives out of average anecdote fare and plants them firmly in hilarious ground.” \n  \nYour Mom’s House Studios is home to his hit podcasts Your Mom’s House which he co-hosts with his wife\, comedian Christina Pazsitzky\, 2 Bears 1 Cave which he co-hosts with Bert Kreischer\, and many more podcasts that draw millions of listeners each week. Additionally\, YMH Studios was one of the first networks to create wildly successful Livestream Podcast Events as an outcome of the pandemic. \nSegura can be seen in the STX Film Countdown opposite Elizabeth Lail\, Instant Family opposite Mark Wahlberg and Rose Byrne\, OPENING ACT\, and FLINCH. Segura’s television credits include: The Late Show with Stephen Colbert\, Conan\, Workaholics\, Happy Endings\, The Late Late Show\, Comedy Central Presents: Tom Segura\, Mash Up\, How To Be A Grown Up. \nSegura has an increasing social media following (@seguratom on IG\, @tomsegura on Twitter). When he isn’t performing on stage or recording a podcast he’s watching college football or waiting for college football to come back.
URL:https://bornbuffalo.com/event/tom-segura-come-together/
LOCATION:KeyBank Center\, 1 Seymour H Knox III Plaza\, Buffalo\, NY\, 14203\, United States
CATEGORIES:Buffalo Event,Comedy
ATTACH;FMTTYPE=image/jpeg:https://bornbuffalo.com/wp-content/uploads/2024/09/TomSegura_2024.jpg
END:VEVENT
BEGIN:VEVENT
DTSTART;TZID=America/New_York:20241011T193000
DTEND;TZID=America/New_York:20241011T193000
DTSTAMP:20260425T174628
CREATED:20240911T120224Z
LAST-MODIFIED:20240911T120224Z
UID:16458-1728675000-1728675000@bornbuffalo.com
SUMMARY:Kountry Wayne
DESCRIPTION:Kountry Wayne\nOctober 11\, 2024\nKountry Wayne (a.k.a. Wayne Colley) has been generating an extraordinary amount of buzz among his peers within the entertainment industry as one of comedy’s most notable rising stars. Since his first viral Facebook post in 2014\, Wayne’s career continues to soar\, while garnering a loyal fan base. His widely popular digital sketches draw millions of viewers daily across Facebook\, TikTok\, Instagram and his YouTube channel. These sketches feature original characters created by Wayne\, as well as cameos from notable celebrities such as Ludacris\, Mike Epps\, Charlamagne tha God\, and Lamar Odom\, among others. \nKeeping it real\, mining comic gold from the everyday and applying his genius for freestyling\, Wayne has mastered the art of storytelling. In 2017\, Wayne embarked on the “Child Support Tour\,” his first national tour consisting of 150 dates\, where he sold out clubs and theaters across America. The tour’s name wasn’t just a clever moniker—Wayne\, a father of ten kids\, is committed to securing their future as he builds his own entertainment legacy. \n“My hashtag\, my mantra\, is ‘Help is On The Way!’ – that’s my slogan\, I own it\, because I believe God’s got my back and your back and whatever is stressing you out today\, it won’t last because help is truly on the way\,” says Wayne\, whose endearingly funny way with English stems from growing up “Kountry” in Millen\, GA (pop. 3500)\, between Statesboro and Augusta. He acquired his stage name during his time living and attending school in Savannah in the mid-2000s. \nWayne’s career highlights in recent years include being named one of Variety’s “10 Comics to Watch” in 2021\, starring in the BET original Christmas rom-com “Holiday Heartbreak” (2021)\, appearing on MTV’s “Wild ‘N Out” with Nick Cannon\, and releasing his debut EP\, “Drip & Zay\,” produced by GRAMMY® Award- winning producer Zaytoven. Currently\, Wayne co-hosts “I Love Us\,” a comedy clip show on BET+ alongside Kym Whitley\, which premiered last summer. Wayne also starred in the comedy feature film “Strange Love\,” available on Amazon Prime\, and the Peacock original film “Praise This\,” produced by Will Packer\, directed by Tina Gordon\, and starring Chloe Bailey\, Quavo\, Mack Wilds\, Druski\, and more. In September 2023\, Wayne released his first Netflix stand-up special “Kountry Wayne: A Woman’s Prayer.” Filmed at the Warner Theatre in Washington\, D.C.\, Wayne brings his southern flare in this one-of-a-kind stand-up special on fatherhood\, gender dynamics\, and faith. \nWayne has established himself as one of the most in-demand touring comedians in the country\, amassing a devoted following while performing in theaters\, comedy clubs and arenas across the nation. In 2022\, the charismatic comic performed to sold-out theaters during his “Straight Out The Mud” tour\, produced by Live Nation. Notably\, he graced the stage of the historic Palace Theatre in Los Angeles as part of the Netflix is a Joke Festival. Building on the success of “Straight Out The Mud\,” Wayne set off on his second Live Nation-produced tour\, “Help Is On The Way\,” in 2023. Concurrently\, Wayne released his debut book of the same name on April 18\, 2023\, through Harmony Books\, an imprint of Penguin Random House. In the book\, Wayne shares his seemingly impossible story with hopes to inspire others to see that no matter where you started from or how stuck you feel right now\, the possibilities for living a rich\, full life are limitless. The foreword is written by NAACP Image Award-winning actor and comedian\, Cedric the Entertainer. \nWith his humble roots and unbridled energy\, Wayne continues to build his audience with cutting-edge yet clean\, curse-free material that transcends cultural lines. All while still posting content online daily.
URL:https://bornbuffalo.com/event/kountry-wayne/
LOCATION:Kleinhans Music Hall\, 3 Symphony Circle\, Buffalo\, NY\, 14201\, United States
CATEGORIES:Buffalo Event,Comedy
ATTACH;FMTTYPE=image/webp:https://bornbuffalo.com/wp-content/uploads/2024/09/Untitled-4-1.webp
END:VEVENT
END:VCALENDAR