BEGIN:VCALENDAR
VERSION:2.0
PRODID:-//Born Buffalo - ECPv6.15.20//NONSGML v1.0//EN
CALSCALE:GREGORIAN
METHOD:PUBLISH
X-WR-CALNAME:Born Buffalo
X-ORIGINAL-URL:https://bornbuffalo.com
X-WR-CALDESC:Events for Born Buffalo
REFRESH-INTERVAL;VALUE=DURATION:PT1H
X-Robots-Tag:noindex
X-PUBLISHED-TTL:PT1H
BEGIN:VTIMEZONE
TZID:America/New_York
BEGIN:DAYLIGHT
TZOFFSETFROM:-0500
TZOFFSETTO:-0400
TZNAME:EDT
DTSTART:20230312T070000
END:DAYLIGHT
BEGIN:STANDARD
TZOFFSETFROM:-0400
TZOFFSETTO:-0500
TZNAME:EST
DTSTART:20231105T060000
END:STANDARD
BEGIN:DAYLIGHT
TZOFFSETFROM:-0500
TZOFFSETTO:-0400
TZNAME:EDT
DTSTART:20240310T070000
END:DAYLIGHT
BEGIN:STANDARD
TZOFFSETFROM:-0400
TZOFFSETTO:-0500
TZNAME:EST
DTSTART:20241103T060000
END:STANDARD
BEGIN:DAYLIGHT
TZOFFSETFROM:-0500
TZOFFSETTO:-0400
TZNAME:EDT
DTSTART:20250309T070000
END:DAYLIGHT
BEGIN:STANDARD
TZOFFSETFROM:-0400
TZOFFSETTO:-0500
TZNAME:EST
DTSTART:20251102T060000
END:STANDARD
END:VTIMEZONE
BEGIN:VEVENT
DTSTART;TZID=America/New_York:20241106T183000
DTEND;TZID=America/New_York:20241106T203000
DTSTAMP:20260419T180154
CREATED:20241105T170040Z
LAST-MODIFIED:20241105T170040Z
UID:17558-1730917800-1730925000@bornbuffalo.com
SUMMARY:Singles Age 25-45 Elmwood Village in Buffalo\, Speed Dating Event for Age 25-45
DESCRIPTION:Speed Dating Event in Buffalo\, NY \nWelcome to Pre-Dating Speed Dating! Thank You for choosing us to find your potential significant other. At Jack Rabbit\, you will meet up to 15 single people like yourself age’s 25-45. This venue has a warm and inviting atmosphere in the heart of downtown Buffalo. At this event\, you can be the authentic person that you are and just have fun! Maybe find some things in common with one another and possibly form new friendships as well! 
URL:https://bornbuffalo.com/event/singles-age-25-45-elmwood-village-in-buffalo-speed-dating-event-for-age-25-45/
LOCATION:Jack Rabbit\, 1010 Elmwood Ave\, Buffalo\, NY\, 14222\, United States
CATEGORIES:Dating
ATTACH;FMTTYPE=image/jpeg:https://bornbuffalo.com/wp-content/uploads/2024/11/22-speed-dating-event.jpg
END:VEVENT
END:VCALENDAR