BEGIN:VCALENDAR
VERSION:2.0
PRODID:-//Born Buffalo - ECPv6.15.20//NONSGML v1.0//EN
CALSCALE:GREGORIAN
METHOD:PUBLISH
X-WR-CALNAME:Born Buffalo
X-ORIGINAL-URL:https://bornbuffalo.com
X-WR-CALDESC:Events for Born Buffalo
REFRESH-INTERVAL;VALUE=DURATION:PT1H
X-Robots-Tag:noindex
X-PUBLISHED-TTL:PT1H
BEGIN:VTIMEZONE
TZID:America/New_York
BEGIN:DAYLIGHT
TZOFFSETFROM:-0500
TZOFFSETTO:-0400
TZNAME:EDT
DTSTART:20230312T070000
END:DAYLIGHT
BEGIN:STANDARD
TZOFFSETFROM:-0400
TZOFFSETTO:-0500
TZNAME:EST
DTSTART:20231105T060000
END:STANDARD
BEGIN:DAYLIGHT
TZOFFSETFROM:-0500
TZOFFSETTO:-0400
TZNAME:EDT
DTSTART:20240310T070000
END:DAYLIGHT
BEGIN:STANDARD
TZOFFSETFROM:-0400
TZOFFSETTO:-0500
TZNAME:EST
DTSTART:20241103T060000
END:STANDARD
BEGIN:DAYLIGHT
TZOFFSETFROM:-0500
TZOFFSETTO:-0400
TZNAME:EDT
DTSTART:20250309T070000
END:DAYLIGHT
BEGIN:STANDARD
TZOFFSETFROM:-0400
TZOFFSETTO:-0500
TZNAME:EST
DTSTART:20251102T060000
END:STANDARD
END:VTIMEZONE
BEGIN:VEVENT
DTSTART;TZID=America/New_York:20241107T183000
DTEND;TZID=America/New_York:20241107T203000
DTSTAMP:20260419T180226
CREATED:20241106T151159Z
LAST-MODIFIED:20241106T151159Z
UID:17576-1731004200-1731011400@bornbuffalo.com
SUMMARY:Singles Age 36-49 Rochester Speed Dating Event for Singles Age 36-49
DESCRIPTION:Speed Dating Event in Rochester\, NY \nRochester New York Singles: Are you ready to take a break from the online dating scene? Join us for an exciting event hosted by Pre-Dating Speed Dating\, specifically for singles aged 36-49. This event will take place at The Hideaway in Rochester\, where you’ll have the chance to meet new people\, form genuine connections\, and perhaps even find that special someone. We look forward to seeing you at this enjoyable\, no-pressure gathering! 
URL:https://bornbuffalo.com/event/singles-age-36-49-rochester-speed-dating-event-for-singles-age-36-49/
LOCATION:The Hideaway Restaurant\, 197 Park Ave.\, Rochester\, NY\, 14607\, United States
CATEGORIES:Dating
ATTACH;FMTTYPE=image/jpeg:https://bornbuffalo.com/wp-content/uploads/2024/11/22-speed-dating-event.jpg
END:VEVENT
END:VCALENDAR