BEGIN:VCALENDAR
VERSION:2.0
PRODID:-//Born Buffalo - ECPv6.15.20//NONSGML v1.0//EN
CALSCALE:GREGORIAN
METHOD:PUBLISH
X-WR-CALNAME:Born Buffalo
X-ORIGINAL-URL:https://bornbuffalo.com
X-WR-CALDESC:Events for Born Buffalo
REFRESH-INTERVAL;VALUE=DURATION:PT1H
X-Robots-Tag:noindex
X-PUBLISHED-TTL:PT1H
BEGIN:VTIMEZONE
TZID:America/New_York
BEGIN:DAYLIGHT
TZOFFSETFROM:-0500
TZOFFSETTO:-0400
TZNAME:EDT
DTSTART:20220313T070000
END:DAYLIGHT
BEGIN:STANDARD
TZOFFSETFROM:-0400
TZOFFSETTO:-0500
TZNAME:EST
DTSTART:20221106T060000
END:STANDARD
BEGIN:DAYLIGHT
TZOFFSETFROM:-0500
TZOFFSETTO:-0400
TZNAME:EDT
DTSTART:20230312T070000
END:DAYLIGHT
BEGIN:STANDARD
TZOFFSETFROM:-0400
TZOFFSETTO:-0500
TZNAME:EST
DTSTART:20231105T060000
END:STANDARD
BEGIN:DAYLIGHT
TZOFFSETFROM:-0500
TZOFFSETTO:-0400
TZNAME:EDT
DTSTART:20240310T070000
END:DAYLIGHT
BEGIN:STANDARD
TZOFFSETFROM:-0400
TZOFFSETTO:-0500
TZNAME:EST
DTSTART:20241103T060000
END:STANDARD
END:VTIMEZONE
BEGIN:VEVENT
DTSTART;TZID=America/New_York:20230607T120000
DTEND;TZID=America/New_York:20230607T150000
DTSTAMP:20260419T110936
CREATED:20230531T180303Z
LAST-MODIFIED:20230531T180303Z
UID:1233-1686139200-1686150000@bornbuffalo.com
SUMMARY:2023 Canalside Food Truck Lunch Series
DESCRIPTION:Happening each Wednesday down at Canalside from Noon to 3pm\, food trucks gather around the historic waterfront area to provide delicious eats to those Downtown! With different food trucks each week\, there’s an option for anyone and everyone!
URL:https://bornbuffalo.com/event/2023-canalside-food-truck-lunch-series/
LOCATION:Canalside\, 44 Prime St.\, Buffalo\, NY\, 14202\, United States
CATEGORIES:Buffalo Event,Food
ATTACH;FMTTYPE=image/jpeg:https://bornbuffalo.com/wp-content/uploads/2023/05/food-truck-wednesday.jpeg
END:VEVENT
END:VCALENDAR