BEGIN:VCALENDAR
VERSION:2.0
PRODID:-//Born Buffalo - ECPv6.15.20//NONSGML v1.0//EN
CALSCALE:GREGORIAN
METHOD:PUBLISH
X-ORIGINAL-URL:https://bornbuffalo.com
X-WR-CALDESC:Events for Born Buffalo
REFRESH-INTERVAL;VALUE=DURATION:PT1H
X-Robots-Tag:noindex
X-PUBLISHED-TTL:PT1H
BEGIN:VTIMEZONE
TZID:America/New_York
BEGIN:DAYLIGHT
TZOFFSETFROM:-0500
TZOFFSETTO:-0400
TZNAME:EDT
DTSTART:20230312T070000
END:DAYLIGHT
BEGIN:STANDARD
TZOFFSETFROM:-0400
TZOFFSETTO:-0500
TZNAME:EST
DTSTART:20231105T060000
END:STANDARD
BEGIN:DAYLIGHT
TZOFFSETFROM:-0500
TZOFFSETTO:-0400
TZNAME:EDT
DTSTART:20240310T070000
END:DAYLIGHT
BEGIN:STANDARD
TZOFFSETFROM:-0400
TZOFFSETTO:-0500
TZNAME:EST
DTSTART:20241103T060000
END:STANDARD
BEGIN:DAYLIGHT
TZOFFSETFROM:-0500
TZOFFSETTO:-0400
TZNAME:EDT
DTSTART:20250309T070000
END:DAYLIGHT
BEGIN:STANDARD
TZOFFSETFROM:-0400
TZOFFSETTO:-0500
TZNAME:EST
DTSTART:20251102T060000
END:STANDARD
END:VTIMEZONE
BEGIN:VEVENT
DTSTART;TZID=America/New_York:20240913T210000
DTEND;TZID=America/New_York:20240913T230000
DTSTAMP:20260419T142634
CREATED:20240910T112347Z
LAST-MODIFIED:20240910T112347Z
UID:16273-1726261200-1726268400@bornbuffalo.com
SUMMARY:Art Truck at Curtain Up! 2024
DESCRIPTION:Art Truck at Curtain Up! 2024\n\nFREE\n1001 East Delavan Avenue \nVisit the Art Truck for FREE artmaking activities at None Like You/We Care Outreach’s Christmas in July event!
URL:https://bornbuffalo.com/event/art-truck-at-curtain-up-2024/
LOCATION:Buffalo AKG Art Museum\, 1285 Elmwood Avenue\, Buffalo\, NY\, 14222\, United States
CATEGORIES:Art Event,Buffalo Event,Family,Holiday,Workshop
ATTACH;FMTTYPE=image/jpeg:https://bornbuffalo.com/wp-content/uploads/2024/09/2023.05.13_johnniebwileymay14remembrance-66.jpg
END:VEVENT
END:VCALENDAR