BEGIN:VCALENDAR
VERSION:2.0
PRODID:-//Born Buffalo - ECPv6.15.20//NONSGML v1.0//EN
CALSCALE:GREGORIAN
METHOD:PUBLISH
X-WR-CALNAME:Born Buffalo
X-ORIGINAL-URL:https://bornbuffalo.com
X-WR-CALDESC:Events for Born Buffalo
REFRESH-INTERVAL;VALUE=DURATION:PT1H
X-Robots-Tag:noindex
X-PUBLISHED-TTL:PT1H
BEGIN:VTIMEZONE
TZID:America/New_York
BEGIN:DAYLIGHT
TZOFFSETFROM:-0500
TZOFFSETTO:-0400
TZNAME:EDT
DTSTART:20230312T070000
END:DAYLIGHT
BEGIN:STANDARD
TZOFFSETFROM:-0400
TZOFFSETTO:-0500
TZNAME:EST
DTSTART:20231105T060000
END:STANDARD
BEGIN:DAYLIGHT
TZOFFSETFROM:-0500
TZOFFSETTO:-0400
TZNAME:EDT
DTSTART:20240310T070000
END:DAYLIGHT
BEGIN:STANDARD
TZOFFSETFROM:-0400
TZOFFSETTO:-0500
TZNAME:EST
DTSTART:20241103T060000
END:STANDARD
BEGIN:DAYLIGHT
TZOFFSETFROM:-0500
TZOFFSETTO:-0400
TZNAME:EDT
DTSTART:20250309T070000
END:DAYLIGHT
BEGIN:STANDARD
TZOFFSETFROM:-0400
TZOFFSETTO:-0500
TZNAME:EST
DTSTART:20251102T060000
END:STANDARD
END:VTIMEZONE
BEGIN:VEVENT
DTSTART;TZID=America/New_York:20241102T193000
DTEND;TZID=America/New_York:20241102T193000
DTSTAMP:20260425T123806
CREATED:20240321T110841Z
LAST-MODIFIED:20240321T110841Z
UID:8127-1730575800-1730575800@bornbuffalo.com
SUMMARY:Rock Hits & Power Ballads
DESCRIPTION:Rock Hits & Power Ballads\nStuart Chafetz\, conductor\nDee Donasco\, vocals\nMicah Wilshire\, vocals\nBrian Kushmaul\, drum \nPrepare for a high-voltage evening as the BPO delivers an exhilarating lineup of rock anthems and power ballads under the baton of Stuart Chafetz. This concert brings together the heart-pounding hits of rock legends such as The Cars\, Aerosmith\, and Foreigner with the soul-stirring ballads of Adele\, Gloria Estefan\, Bonnie Raitt\, and Whitney Houston. Featuring dynamic performances by Dee Donasco and Micah Wilshire\, and the driving rhythms of drummer Brian Kushmaul\, this is a celebration of rock’s most iconic moments and the unforgettable ballads that continue to move us. Whether you’re a classic rock devotee or a ballad aficionado\, this night promises an unforgettable journey through the songs that defined a genre.
URL:https://bornbuffalo.com/event/rock-hits-power-ballads/
LOCATION:Kleinhans Music Hall\, 3 Symphony Circle\, Buffalo\, NY\, 14201\, United States
CATEGORIES:Buffalo Event,Live Music
ATTACH;FMTTYPE=image/webp:https://bornbuffalo.com/wp-content/uploads/2024/03/Ballads-.webp
END:VEVENT
BEGIN:VEVENT
DTSTART;TZID=America/New_York:20241102T200000
DTEND;TZID=America/New_York:20241102T200000
DTSTAMP:20260425T123806
CREATED:20240908T141307Z
LAST-MODIFIED:20240908T141307Z
UID:16180-1730577600-1730577600@bornbuffalo.com
SUMMARY:Dizgo w/ Grub & Solar Circuit
DESCRIPTION:Dizgo w/ Grub & Solar Circuit\nDizgo\n“DIZGO has one of the most operative names in the jamband scene\, evoking a transcendence of genre: a dizzier disco\, filled with a hodge-podge of genres\, styles\, and technical influences while still\, at it’s core\, a dance party.” -> Space Tapes \nDizgo redefines the live experience by blending jamtronica with funk\, deep-groove soul\, and psychedelic rock\, taking the audience on a musical journey that includes intricate compositions and extended improvisation. The result is something both danceable and introspective: soulful vocals \,interweaving analog synths\, and shredding guitar all which join forces under the banner of Dizgo. \nThe band has played stand out performances at festivals such as Peach MusicFestival\, Summer Camp Music Festival\, Resonance Music Festival\, Werk Out MusicFestival\, Sonic Bloom Music Festival\, and much more and has supported acts suchas Goose\, Pigeons Playing Ping Pong\, Papadosio\, The Main Squeeze\, Aqueous\, Lespecial\, and more.
URL:https://bornbuffalo.com/event/dizgo-w-grub-solar-circuit/
LOCATION:Buffalo Iron Works\, 49 Illinois St\, Buffalo\, NY\, 14203\, United States
CATEGORIES:Buffalo Event,Live Music,Nightlife
ATTACH;FMTTYPE=image/png:https://bornbuffalo.com/wp-content/uploads/2024/09/near_me_music_live_event.png
END:VEVENT
BEGIN:VEVENT
DTSTART;TZID=America/New_York:20241103T193000
DTEND;TZID=America/New_York:20241103T193000
DTSTAMP:20260425T123806
CREATED:20240908T141634Z
LAST-MODIFIED:20240908T141634Z
UID:16183-1730662200-1730662200@bornbuffalo.com
SUMMARY:Bearly Dead
DESCRIPTION:Bearly Dead\nNot just another Grateful Dead cover band. A cosmic exploration of the Grateful Dead catalog! Bearly Dead\, Boston-based quintet\, performs a concert-style show that celebrates the journey of the Grateful Dead from their earliest records until their final tours. The band delivers a full-spectrum concert experience filled with danceable energy and world-class musicianship. Each and every Grateful Dead member is honored through a collection of classics\, b-sides\, deep cuts\, and exploratory jams. Holding true to the spirit of the music\, Bearly Dead frequently adds to their 250+ song catalog and continues to showcase authentic\, spontaneous improvisation – live and in-person – making each show a wildly unique Grateful Dead experience you do not want to miss! \nBearly Dead played their first show at Church of Boston\, in 2015\, marking the beginning of its hallowed Wednesday Night Residency. Over the next 5 years the phrase “Never Miss A Wednesday Show” became ubiquitous around Boston and Bearly Dead was nominated multiple times for Boston Music Awards Live Music Residency of the Year. Fans really never knew what might happen\, the band never knew what might happen! Bearly Dead shows have featured notable appearances by Mike Campbell (Tom Petty & The Heartbreakers)\, Paul Wolstencroft (Slightly Stoopid)\, Steve Molitz (Particle/Phil Lesh & Friends)\, Kebbi Williams (Tedeschi Trucks Band)\, Rob Compa (Dopapod)\, Hayley Jane (Hayley Jane & The Primates)\, Richard James (Neighbor)\, and Johnny Trama (Dub Apocalypse) — and even a surprise appearance by Jerry Garcia’s “Wolf” guitar in 2018 on Jerry Garcia’s birthday.
URL:https://bornbuffalo.com/event/bearly-dead/
LOCATION:Buffalo Iron Works\, 49 Illinois St\, Buffalo\, NY\, 14203\, United States
CATEGORIES:Buffalo Event,Live Music,Nightlife
ATTACH;FMTTYPE=image/png:https://bornbuffalo.com/wp-content/uploads/2024/09/livemusic_nearme.png
END:VEVENT
END:VCALENDAR