BEGIN:VCALENDAR
VERSION:2.0
PRODID:-//Born Buffalo - ECPv6.15.20//NONSGML v1.0//EN
CALSCALE:GREGORIAN
METHOD:PUBLISH
X-ORIGINAL-URL:https://bornbuffalo.com
X-WR-CALDESC:Events for Born Buffalo
REFRESH-INTERVAL;VALUE=DURATION:PT1H
X-Robots-Tag:noindex
X-PUBLISHED-TTL:PT1H
BEGIN:VTIMEZONE
TZID:America/New_York
BEGIN:DAYLIGHT
TZOFFSETFROM:-0500
TZOFFSETTO:-0400
TZNAME:EDT
DTSTART:20220313T070000
END:DAYLIGHT
BEGIN:STANDARD
TZOFFSETFROM:-0400
TZOFFSETTO:-0500
TZNAME:EST
DTSTART:20221106T060000
END:STANDARD
BEGIN:DAYLIGHT
TZOFFSETFROM:-0500
TZOFFSETTO:-0400
TZNAME:EDT
DTSTART:20230312T070000
END:DAYLIGHT
BEGIN:STANDARD
TZOFFSETFROM:-0400
TZOFFSETTO:-0500
TZNAME:EST
DTSTART:20231105T060000
END:STANDARD
BEGIN:DAYLIGHT
TZOFFSETFROM:-0500
TZOFFSETTO:-0400
TZNAME:EDT
DTSTART:20240310T070000
END:DAYLIGHT
BEGIN:STANDARD
TZOFFSETFROM:-0400
TZOFFSETTO:-0500
TZNAME:EST
DTSTART:20241103T060000
END:STANDARD
END:VTIMEZONE
BEGIN:VEVENT
DTSTART;TZID=America/New_York:20230602T160000
DTEND;TZID=America/New_York:20230603T210000
DTSTAMP:20260421T074014
CREATED:20230531T151841Z
LAST-MODIFIED:20230531T151841Z
UID:1146-1685721600-1685826000@bornbuffalo.com
SUMMARY:Pints In The Park
DESCRIPTION:Pints in the Park is finally back for the Summer! Organized by the folks over at Resurgence Brewing Company\, this wonderful Summer event takes place Friday and Saturday at Chestnut Ridge Park. It is a special charity event\, with $1 from every “OP Pilz” sold will go towards the Boys and Girls Club of Orchard Park! Guests who bring a non-perishable item such as dry shelf items or canned foods for donation will receive a ‘Free Pint’ voucher for the Resurgence ‘In the Park’ Location. \nThe Event on Friday June 2nd will run from 4pm-9pm\, and from 12pm-9pm on Saturday June 3rd.
URL:https://bornbuffalo.com/event/pints-in-the-park/
LOCATION:NY
CATEGORIES:Buffalo Event,Nightlife
ATTACH;FMTTYPE=image/jpeg:https://bornbuffalo.com/wp-content/uploads/2023/05/Pints-in-the-Park-–-Chestnut-Ridge.jpeg
END:VEVENT
BEGIN:VEVENT
DTSTART;TZID=America/New_York:20230617T100000
DTEND;TZID=America/New_York:20230618T020000
DTSTAMP:20260421T074014
CREATED:20230613T151537Z
LAST-MODIFIED:20230613T151649Z
UID:1676-1686996000-1687053600@bornbuffalo.com
SUMMARY:Saturday Night with DJ Lisa Lux
DESCRIPTION:Every Saturday Night join us for a no cover dance party featuring some of our favorite DJs. Saturday June 17TH from 10pm+\, it’s DJ Lisa Lux! New to the Beer Keep\, come enjoy some dance\, pop\, hip-hop\, disco and house!
URL:https://bornbuffalo.com/event/saturday-night-with-dj-lisa-lux/
LOCATION:NY
CATEGORIES:Food,Live Music,Nightlife
ATTACH;FMTTYPE=image/jpeg:https://bornbuffalo.com/wp-content/uploads/2023/06/beerkeep.jpg
END:VEVENT
BEGIN:VEVENT
DTSTART;TZID=America/New_York:20230624T200000
DTEND;TZID=America/New_York:20230625T000000
DTSTAMP:20260421T074014
CREATED:20230613T153032Z
LAST-MODIFIED:20230613T153032Z
UID:1684-1687636800-1687651200@bornbuffalo.com
SUMMARY:Lyrics + Libations: DJ Cutler + Limited Edition Vinyl Drop from Mic Excel
DESCRIPTION:This is first and foremost a place for art. \nA three city hip hop showcase in Chicago\, Indiana\, and now Buffalo. \nThis event encourages spontaneous collaboration between artists. Bridging the gap between experienced and inexperienced artists. \nThree minutes will be set aside for three participants who choose to sign up the night of event. Each receiving one minute to Express themselves through signing\, and or rap\, over toneybois instrumentals. \nBacked by DJ Cutler all night and hosted by founder of Lyrics and Libation’s Chicagos Boly Blaise. Featuring a limited edition vinyl drop from Mic Excel. The night will wrap with a clap reaction for the best minute of participants. Crowning a winner followed by a debut performance of Mic Excels latest project entitled “Names” produced by Baddfish. \nNo cover\, 21+. \nFor more information\, visit: \nWww.lyricsandlibation.com
URL:https://bornbuffalo.com/event/lyrics-libations-dj-cutler-limited-edition-vinyl-drop-from-mic-excel/
LOCATION:NY
CATEGORIES:Live Music,Nightlife
ATTACH;FMTTYPE=image/jpeg:https://bornbuffalo.com/wp-content/uploads/2023/06/thebeerkeep1.jpeg
END:VEVENT
END:VCALENDAR