BEGIN:VCALENDAR
VERSION:2.0
PRODID:-//Born Buffalo - ECPv6.15.20//NONSGML v1.0//EN
CALSCALE:GREGORIAN
METHOD:PUBLISH
X-WR-CALNAME:Born Buffalo
X-ORIGINAL-URL:https://bornbuffalo.com
X-WR-CALDESC:Events for Born Buffalo
REFRESH-INTERVAL;VALUE=DURATION:PT1H
X-Robots-Tag:noindex
X-PUBLISHED-TTL:PT1H
BEGIN:VTIMEZONE
TZID:America/New_York
BEGIN:DAYLIGHT
TZOFFSETFROM:-0500
TZOFFSETTO:-0400
TZNAME:EDT
DTSTART:20220313T070000
END:DAYLIGHT
BEGIN:STANDARD
TZOFFSETFROM:-0400
TZOFFSETTO:-0500
TZNAME:EST
DTSTART:20221106T060000
END:STANDARD
BEGIN:DAYLIGHT
TZOFFSETFROM:-0500
TZOFFSETTO:-0400
TZNAME:EDT
DTSTART:20230312T070000
END:DAYLIGHT
BEGIN:STANDARD
TZOFFSETFROM:-0400
TZOFFSETTO:-0500
TZNAME:EST
DTSTART:20231105T060000
END:STANDARD
BEGIN:DAYLIGHT
TZOFFSETFROM:-0500
TZOFFSETTO:-0400
TZNAME:EDT
DTSTART:20240310T070000
END:DAYLIGHT
BEGIN:STANDARD
TZOFFSETFROM:-0400
TZOFFSETTO:-0500
TZNAME:EST
DTSTART:20241103T060000
END:STANDARD
END:VTIMEZONE
BEGIN:VEVENT
DTSTART;TZID=America/New_York:20231202T190000
DTEND;TZID=America/New_York:20231202T190000
DTSTAMP:20260420T103005
CREATED:20230915T174221Z
LAST-MODIFIED:20230915T174221Z
UID:3146-1701543600-1701543600@bornbuffalo.com
SUMMARY:THE SADIES W/ SPECIAL GUESTS
DESCRIPTION:The Sadies w/ special guests return to Buffalo Iron Works on Saturday December 2nd\, 2023! \nThe Sadies \nAs we all know\, the ‘press release’ is a tool meant to announce and promote a new recording project. A jaded and unreliable sales-pitch at best\, the usual ‘bio’ invariably attempts to describe the project in question as some sort of second coming. But how do you sell sounds? The critics’ voice must be heard at all costs\, but this is something else entirely. Obviously\, this is an ad. \nKnowing what you’re getting is all anyone really wants to know. The details of how the recording is made might be interesting\, but they aren’t exactly crucial to the listening process. In our case\, comparisons can be misleading too\, because The Sadies don’t really fit tidily into any genre\, or even sub-genre. We aren’t really ‘pre or post’ anything and we don’t have the right hair-cuts or hats for any particular scene. Can’t really call us modern or retro either. We certainly don’t claim to have re-invented the wheel. We just are. And have been for a very long time. So\, all that matters is the music itself\, right? \nAfter making so many records\, some things get easier. Most things do not. But just because it’s harder doesn’t mean it isn’t better. I think it’s gotten easier to know when we are on to something and that’s in no small part due to working with Richard Reed Parry (Arcade Fire/Belle Orchestre) as producer. We put in a lot of hard work but he always made it easy and fun. This is\, of course\, totally irrelevant to your listening experience. \nWe began this recording well over a year before the plague began and completed it in June 2021. The studio we worked at in Quebec is perfectly calibrated to our claustrophobia. It was mostly engineered by Pietro Amato (Belle Orchestre/etc.)\, who is great at everything he does when he’s not doing something else. Jon Spencer (Jon Spencer!!!) was kind enough to intervene and rescue a song for us. My folks play on it. There was a church™ involved. Curfews were broken. Borders were crossed stealthily. Sean did all of the artwork. Travis and Mike did a lot of driving. I did the bio. \nColder Streams is a record made with love by loved ones. The Sadies have released a lot of records. This is one of them. \nDo any bands make their best work this far along in their career? I can think of artists who still make great music after all these years\, but their best? Yet\, here we are and that’s what I’m accusing us of. I think it’s our best but I’ve been wrong before. All I ask is that you listen to a few songs and decide for yourself what it sounds like. If you like it\, you’ll know what to do. But my description of the music would just be punishing for the both of us. \nI guess all that really needs to be said here is that if you like The Sadies\, you will definitely want to get Colder Streams. If you disliked or felt indifferent towards The Sadies\, you will definitely want to get Colder Streams. If you’ve never heard The Sadies and yet you’re still reading\, you too will definitely want to get Colder Streams. \nBut unfortunately\, it’s sold out. \nBuffalo Iron Works \n49 Illinois St Buffalo\, NY 14203 \nTickets: $15 ADV/$20 DOS \nDoors: 7:00pm \nShow: 8:00pm \nAges: 18+
URL:https://bornbuffalo.com/event/the-sadies-w-special-guests/
LOCATION:Buffalo Iron Works\, 49 Illinois St\, Buffalo\, NY\, 14203\, United States
CATEGORIES:Buffalo Event,Live Music,Nightlife
ATTACH;FMTTYPE=image/jpeg:https://bornbuffalo.com/wp-content/uploads/2023/09/The-Sadies.jpeg
END:VEVENT
BEGIN:VEVENT
DTSTART;TZID=America/New_York:20231205T190000
DTEND;TZID=America/New_York:20231205T220000
DTSTAMP:20260420T103005
CREATED:20231124T123601Z
LAST-MODIFIED:20231124T123601Z
UID:6520-1701802800-1701813600@bornbuffalo.com
SUMMARY:Nerd Nite
DESCRIPTION:Nerd Nite\nJoin us for our next Nerd Nite talk\, a seminar-style event! \nCome drink some beer\, tour our Chicago St. brewery\, and learn about problematic passwords and how to get free flights. \nSpeaker Line-Up: \nBrad Post\, Cyber Security Professional/Enthusiast\nSam Anthony\, Lead Content Editor at Nomadic Matt\nTickets are $10 and include the tour and the speakers (free beer will be provided during the tour!)
URL:https://bornbuffalo.com/event/nerd-nite/
LOCATION:Resurgence Taproom\, 55 Chicago St.\, Buffalo\, NY\, 14204\, United States
CATEGORIES:Buffalo Event,Nightlife
ATTACH;FMTTYPE=image/jpeg:https://bornbuffalo.com/wp-content/uploads/2023/11/Nerd_Nite.jpeg
END:VEVENT
BEGIN:VEVENT
DTSTART;TZID=America/New_York:20231206T190000
DTEND;TZID=America/New_York:20231206T190000
DTSTAMP:20260420T103005
CREATED:20230914T114035Z
LAST-MODIFIED:20230914T114613Z
UID:2976-1701889200-1701889200@bornbuffalo.com
SUMMARY:SNOTTY NOSE REZ KIDS
DESCRIPTION:Funtime Presents\nSnotty Nose Rez Kids\nAges 12+\, Minors under 16 must be accompanied by a parent\nGovernment Issued ID Required
URL:https://bornbuffalo.com/event/snotty-nose-rez-kids/
LOCATION:Town Ballroom\, 681 Main St.\, Buffalo\, NY\, 14203\, United States
CATEGORIES:Buffalo Event,Live Music,Nightlife
ATTACH;FMTTYPE=image/jpeg:https://bornbuffalo.com/wp-content/uploads/2023/09/Snotty_30371694524059.jpeg
END:VEVENT
BEGIN:VEVENT
DTSTART;TZID=America/New_York:20231206T190000
DTEND;TZID=America/New_York:20231206T190000
DTSTAMP:20260420T103005
CREATED:20230915T174406Z
LAST-MODIFIED:20230915T174406Z
UID:3149-1701889200-1701889200@bornbuffalo.com
SUMMARY:LESPECIAL W/ GRUB
DESCRIPTION:Twenty6 Productions Presents: lespecial w/ Grub at Buffalo Iron Works on Wednesday December 6th\, 2023! \nLespecial \nlespecial is redefining the term “power trio”. The multi-instrumentalists from Connecticut continue to push the boundaries of what a three-piece band is capable of both live and in the studio ahead of their latest album\, “Odd Times”. The band’s signature blend of “heavy future groove” combines headbanging metal riffage and surgical rhythmic precision with bone shaking 808s\, sub synths and ethereal vocal stylings for a dance floor that welcomes moshing\, dancing and hip swaying alike. Listeners are taken on a journey to the musical netherworld through esoteric soundscapes punctuated by raw\, primal power. \nOdd Times\, lespecial’s darkest and heaviest record to date\, is an enigmatic and compelling musical project that explores the ever-changing nature of time amidst isolation. With heavy riffs\, tribal drumming\, and hints of levity\, it’s a captivating journey crafted in collaboration with Havok’s David Sanchez. An intriguing blend of old-school metal and modern djent-inspired riffage awaits in this haunting sonic experience. \nBuffalo Iron Works \n49 Illinois St Buffalo\, NY 14203 \nTickets: $20 ADV/$25 DOS \nDoors: 7:00pm \nShow: 8:00pm \nAges: 18+
URL:https://bornbuffalo.com/event/lespecial-w-grub/
LOCATION:Buffalo Iron Works\, 49 Illinois St\, Buffalo\, NY\, 14203\, United States
CATEGORIES:Buffalo Event,Live Music,Nightlife
ATTACH;FMTTYPE=image/jpeg:https://bornbuffalo.com/wp-content/uploads/2023/09/Lespecial.jpeg
ORGANIZER;CN="Twenty6 Productions":MAILTO:events@twenty6productions.com
END:VEVENT
BEGIN:VEVENT
DTSTART;TZID=America/New_York:20231207T190000
DTEND;TZID=America/New_York:20231207T190000
DTSTAMP:20260420T103005
CREATED:20230914T114210Z
LAST-MODIFIED:20230914T114558Z
UID:2979-1701975600-1701975600@bornbuffalo.com
SUMMARY:THE MOUNTAIN GOATS
DESCRIPTION:Funtime Presents\nThe Mountain Goats\nwith Stephen Steinbrink\nAges 12+\,  Minors under 16 must be accompanied by a parent\nGovernment Issued ID Required
URL:https://bornbuffalo.com/event/the-mountain-goats/
LOCATION:Town Ballroom\, 681 Main St.\, Buffalo\, NY\, 14203\, United States
CATEGORIES:Buffalo Event,Live Music,Nightlife
ATTACH;FMTTYPE=image/jpeg:https://bornbuffalo.com/wp-content/uploads/2023/09/The_30071692621359.jpeg
END:VEVENT
BEGIN:VEVENT
DTSTART;TZID=America/New_York:20231209T200000
DTEND;TZID=America/New_York:20231209T200000
DTSTAMP:20260420T103005
CREATED:20230914T114502Z
LAST-MODIFIED:20230914T114502Z
UID:2982-1702152000-1702152000@bornbuffalo.com
SUMMARY:MERSIV
DESCRIPTION:MNM Presents\nMersiv: Out Of Bounds\nw/ Sippy\, Heyz\, more tba\nAges 18+\nGovernment Issued ID required \nMersiv\nmersiv.net\ntwitter.com/mersivsound\ninstagram.com/mersivsoundproject\nsoundcloud.com/mersivsoundproject \nThe Mersiv Sound Project is the brainchild of Anderson Benoit Gallegos. Producer/DJ Anderson has been developing a unique pretty-dark-loud style of bass music since he started his musical journey in 2015. The intentions of this project are to bring people into the present moment through a Mersiv experience. \nw/ special guests \nSippy\nsoundcloud.com/SippyAu \nHeyz\ninstagram.com/heyzmsc \nProduced by\nmnmpresents.com
URL:https://bornbuffalo.com/event/mersiv/
LOCATION:Town Ballroom\, 681 Main St.\, Buffalo\, NY\, 14203\, United States
CATEGORIES:Buffalo Event,Live Music,Nightlife
ATTACH;FMTTYPE=image/jpeg:https://bornbuffalo.com/wp-content/uploads/2023/09/Mersiv_29891692007609.jpeg
ORGANIZER;CN="MNM Presents":MAILTO:mike@mnmpresents
END:VEVENT
BEGIN:VEVENT
DTSTART;TZID=America/New_York:20231209T200000
DTEND;TZID=America/New_York:20231209T200000
DTSTAMP:20260420T103005
CREATED:20230915T174611Z
LAST-MODIFIED:20230915T174611Z
UID:3152-1702152000-1702152000@bornbuffalo.com
SUMMARY:KELLER WILLIAMS
DESCRIPTION:Twenty6 Productions Presents: Keller Williams at Buffalo Iron Works on Saturday December 9th\, 2023! \nKeller Williams \nMusical Mad Scientist\, Keller Williams\, returns to Buffalo\, NY!  Keller is best known for his whimsical lyrics\, guitar prowess and for creating samples on the fly in front of the audience\, a technique called live phrase sampling or looping\, with nothing pre-recorded. The end result often leans toward a hybrid of alternative folk and groovy electronica\, a genre Keller jokingly calls “acoustic dance music” or ADM.”  \nVirginian\, Keller Williams\, released his first album in 1994\, FREEK\, and has since given each of his albums a single syllable title: BUZZ\, SPUN\, BREATHE\, LOOP\, LAUGH\, HOME\, DANCE\, STAGE\, GRASS\, DREAM\, TWELVE\, LIVE\, ODD\, THIEF\, KIDS\, BASS\, PICK\, FUNK\, VAPE\, SYNC\, RAW\, SANS\, ADD\, SPEED\, CELL and GRIT.   Each title serves as a concise summation of the concept guiding each project. Keller’s albums reflect his pursuit to create music that sounds like nothing else. Un-beholden to conventionalism\, he seamlessly crosses genre boundaries. \nThe end product is music that encompasses rock\, jazz\, funk and bluegrass\, and always keeps the audience on their feet. Keller built his reputation initially on his engaging live performances\, no two of which are ever alike. For most of his career he has performed solo. His stage shows are rooted around Keller singing his compositions and choice cover songs\, while accompanying himself on acoustic guitar\, bass\, guitar synthesizer and drum samples; a technique called live phrase sampling or “looping”.  \nThe end result often leans toward a hybrid of alternative folk and groovy electronica\, a genre Keller jokingly calls “acoustic dance music” or ADM.” Keller’s constant evolution has led to numerous band projects as well; Keller & The Keels\, Grateful Grass\, KWahtro\, Keller and the Travelin’ McCourys\, Grateful Gospel and More Than A Little to name a few. Keller can be found playing clubs and festivals around the U.S. with these projects throughout the year.  \nBuffalo Iron Works \n49 Illinois St Buffalo\, NY 14203 \nTickets: $25 ADV/$30 DOS \nDoors: 8:00pm \nShow: 9:00pm \nAges: 18+
URL:https://bornbuffalo.com/event/keller-williams/
LOCATION:Buffalo Iron Works\, 49 Illinois St\, Buffalo\, NY\, 14203\, United States
CATEGORIES:Buffalo Event,Live Music,Nightlife
ATTACH;FMTTYPE=image/jpeg:https://bornbuffalo.com/wp-content/uploads/2023/09/Keller-Williams.jpeg
ORGANIZER;CN="Twenty6 Productions":MAILTO:events@twenty6productions.com
END:VEVENT
BEGIN:VEVENT
DTSTART;TZID=America/New_York:20231212T190000
DTEND;TZID=America/New_York:20231212T190000
DTSTAMP:20260420T103005
CREATED:20230914T115631Z
LAST-MODIFIED:20230914T115631Z
UID:2986-1702407600-1702407600@bornbuffalo.com
SUMMARY:TAB BENOIT & THE DIRTY DOZEN BRASS BAND
DESCRIPTION:The Big Easy In Buffalo Presents\nTab Benoit and the Dirty Dozen Brass Band\nSeats available for purchase \nAges 12+\, Minors under 16 must be accompanied by a parent\nGovernment Issued ID Required
URL:https://bornbuffalo.com/event/tab-benoit-the-dirty-dozen-brass-band/
LOCATION:Town Ballroom\, 681 Main St.\, Buffalo\, NY\, 14203\, United States
CATEGORIES:Buffalo Event,Live Music,Nightlife
ATTACH;FMTTYPE=image/jpeg:https://bornbuffalo.com/wp-content/uploads/2023/09/Tab_30431694538352.jpeg
END:VEVENT
BEGIN:VEVENT
DTSTART;TZID=America/New_York:20231213T200000
DTEND;TZID=America/New_York:20231213T200000
DTSTAMP:20260420T103005
CREATED:20230915T175320Z
LAST-MODIFIED:20230915T175320Z
UID:3160-1702497600-1702497600@bornbuffalo.com
SUMMARY:PINK TALKING FISH
DESCRIPTION:Pink Talking Fish – A Fusion of Pink Floyd\, Talking Heads and Phish return to Buffalo Iron Works on Wednesday December 13th. 2023! \nPink Talking Fish \nPinkTalking Fish is a Hybrid Tribute Fusion Act that takes the music from three of the world’s most beloved bands and creates a special treat for fans of the music. \nPink Floyd\, The Talking Heads and Phish are all more than just bands…they arePhenomenons. Their creations have artistically inspired people and their mind-blowing live performances have brought people together to form a special sense of community around the love for their favorite band. \nAlthough the music from each act is different\, Pink Talking Fish has discovered that fusing the material together creates an amazing story. The epic emotion of PinkFloyd… The funky\, danceable layerings of The Talking Heads… The multitude of styles\, unique compositional structures and pure fun of Phish… to merge these three into one gives music lovers a special experience. \nDiscovering connections is part of the fun: Pink Floyd’s “Shine On You Crazy Diamond” seamlessly fitting in the middle of the composition of Phish’s “You EnjoyMyself”. Perfectly placing Phish’s “Sand” into the groove of The Talking Heads “Slippery People”. Segued collections from all three acts such as Run Like Hell > Making Flippy Floppy > Piper > RunLike Hell or Mike’s Song > Have A Cigar > Once In A Lifetime >Weekapaug Groove. These ideas are the spirit behind Pink Talking Fish. \nThe story is ever evolving. The experience is always exciting. Come join Pink TalkingFish for the ultimate fusion tribute and celebrate the love of this music in unique fashion. \nBuffalo Iron Works \n49 Illinois St Buffalo\, NY 14203 \nTickets: $20 ADV/$25 DOS \nDoors: 8:00pm \nShow: 9:00pm \nAges: 18+
URL:https://bornbuffalo.com/event/pink-talking-fish-2/
LOCATION:Buffalo Iron Works\, 49 Illinois St\, Buffalo\, NY\, 14203\, United States
CATEGORIES:Buffalo Event,Live Music,Nightlife
ATTACH;FMTTYPE=image/jpeg:https://bornbuffalo.com/wp-content/uploads/2023/09/Pink-Talking-Fish.jpeg
END:VEVENT
BEGIN:VEVENT
DTSTART;TZID=America/New_York:20231215T180000
DTEND;TZID=America/New_York:20231215T180000
DTSTAMP:20260420T103005
CREATED:20230914T115856Z
LAST-MODIFIED:20230914T115856Z
UID:2990-1702663200-1702663200@bornbuffalo.com
SUMMARY:REAL FRIENDS & KNUCKLE PUCK
DESCRIPTION:After Dark Presents\nReal Friends & Knuckle Puck\nwith special guests One Step Closer & Arm’s Length\n16+ Admitted with ID / Under 16 Admitted with Guardian / No One Under 12 Admitted
URL:https://bornbuffalo.com/event/real-friends-knuckle-puck/
LOCATION:Town Ballroom\, 681 Main St.\, Buffalo\, NY\, 14203\, United States
CATEGORIES:Buffalo Event,Live Music,Nightlife
ATTACH;FMTTYPE=image/jpeg:https://bornbuffalo.com/wp-content/uploads/2023/09/Real_29211689509170.jpeg
ORGANIZER;CN="After Dark Presents":MAILTO:info@afterdarkpresents.com
END:VEVENT
BEGIN:VEVENT
DTSTART;TZID=America/New_York:20231215T200000
DTEND;TZID=America/New_York:20231215T233000
DTSTAMP:20260420T103005
CREATED:20231124T124001Z
LAST-MODIFIED:20231124T124001Z
UID:6523-1702670400-1702683000@bornbuffalo.com
SUMMARY:UGLY SWEATER Silent Disco
DESCRIPTION:UGLY SWEATER Silent Disco at Resurgence Brewing!\nElectronic Dance Music | Hip Hop/R&B | Top40/Throwback Hits!\n* *UGLY SWEATER/Christmas Attire ENCOURAGED** \n \n$10 – Advanced Pre-Sale (SOLD OUT) \n$15 – Pre-Sale (SOLD OUT) \n$20 – Regular Price (ON SALE!) \nTickets: https://bit.ly/silentdisco121523 \nEVENT INFO\nFriday\, December 15th\n8PM – 12AM \n3 Channels of Music! \nElectronic Dance Music | Hip Hop/R&B | Top40/Throwback Hits \nProfessional Lighting Production! \nUV Christmas Decorations! \nGreat Drink Specials! \n21+ ID Required for Entry and Silent Disco Headphones \nDJ\nBANDO \nVENUE INFO\nResurgence Brewing Company \n55 Chicago St. Buffalo\, NY 14204
URL:https://bornbuffalo.com/event/ugly-sweater-silent-disco/
LOCATION:Resurgence Taproom\, 55 Chicago St.\, Buffalo\, NY\, 14204\, United States
CATEGORIES:Buffalo Event,Nightlife
ATTACH;FMTTYPE=image/jpeg:https://bornbuffalo.com/wp-content/uploads/2023/11/Silent_Disco.jpeg
END:VEVENT
BEGIN:VEVENT
DTSTART;TZID=America/New_York:20231216T160000
DTEND;TZID=America/New_York:20231216T160000
DTSTAMP:20260420T103005
CREATED:20230914T120119Z
LAST-MODIFIED:20230914T120119Z
UID:2993-1702742400-1702742400@bornbuffalo.com
SUMMARY:LET’S SING TAYLOR: A LIVE BAND EXPERIENCE [MATINEE]
DESCRIPTION:Funtime Presents\nLet’s Sing Taylor\nA Live Band Experience\nMatinee\nAll Ages\nUnder 16 Must be accompanied by a parent or guardian
URL:https://bornbuffalo.com/event/lets-sing-taylor-a-live-band-experience-matinee/
LOCATION:Town Ballroom\, 681 Main St.\, Buffalo\, NY\, 14203\, United States
CATEGORIES:Buffalo Event,Live Music,Nightlife
ATTACH;FMTTYPE=image/jpeg:https://bornbuffalo.com/wp-content/uploads/2023/09/Lets_29821691776554.jpeg
END:VEVENT
BEGIN:VEVENT
DTSTART;TZID=America/New_York:20231216T203000
DTEND;TZID=America/New_York:20231216T203000
DTSTAMP:20260420T103005
CREATED:20230915T175552Z
LAST-MODIFIED:20230915T175552Z
UID:3164-1702758600-1702758600@bornbuffalo.com
SUMMARY:DMVU & TOADFACE
DESCRIPTION:MNM Presents\nDMVU & Toadface\nIDTGA TOur 2023\nw/ special guests tba\nSaturday December 16\nBuffalo Iron Works\n830pm 18+ $19.50+ \nDMVU\nlinktr.ee/dmvu\ntwitter.com/DMVUofficial\ninstagram.com/DMVUofficial\nsoundcloud.com/dmvuofficial \nToadface\nlinktr.ee/toadface777\nsoundcloud.com/toadface\ninstagram.com/toadfacemusic \nIt’s Dangerous To Go Alone:\nspecial guests tba! \nHosted by\nmnmpresents.com
URL:https://bornbuffalo.com/event/dmvu-toadface/
LOCATION:Buffalo Iron Works\, 49 Illinois St\, Buffalo\, NY\, 14203\, United States
CATEGORIES:Buffalo Event,Live Music,Nightlife
ATTACH;FMTTYPE=image/jpeg:https://bornbuffalo.com/wp-content/uploads/2023/09/DMVU-Toadface-buffalo-fbEvent.jpeg
END:VEVENT
BEGIN:VEVENT
DTSTART;TZID=America/New_York:20231229T190000
DTEND;TZID=America/New_York:20231229T190000
DTSTAMP:20260420T103005
CREATED:20230914T120511Z
LAST-MODIFIED:20230914T120511Z
UID:2999-1703876400-1703876400@bornbuffalo.com
SUMMARY:DAVE MATTHEWS TRIBUTE BAND
DESCRIPTION:Funtime Presents\nDave Matthews Tribute Band\nAges 12+\, Minors under 16 must be accompanied by a parent\nGovernment Issued ID Required
URL:https://bornbuffalo.com/event/dave-matthews-tribute-band/
LOCATION:Town Ballroom\, 681 Main St.\, Buffalo\, NY\, 14203\, United States
CATEGORIES:Buffalo Event,Live Music,Nightlife
ATTACH;FMTTYPE=image/jpeg:https://bornbuffalo.com/wp-content/uploads/2023/09/Dave_30131693939558.jpeg
END:VEVENT
BEGIN:VEVENT
DTSTART;TZID=America/New_York:20231230T200000
DTEND;TZID=America/New_York:20231230T213000
DTSTAMP:20260420T103005
CREATED:20231124T124248Z
LAST-MODIFIED:20231124T124248Z
UID:6526-1703966400-1703971800@bornbuffalo.com
SUMMARY:Boston Comedy Club
DESCRIPTION:Boston Comedy Club showcases professional comedians from Boston\, New York City\, and beyond! Each show features a novel line-up with acts seen on TV and heard on your favorite podcasts. \nJoin us at Resurgence Brewing Co in Buffalo\, NY! – 55 Chicago St\, Buffalo\, NY 14204 \nSaturday\, December 30\, 2023 – 8:00PM \nFor more info: Follow on Instagram @bostoncomedyclub or check out our website\, boscomedyclub.com
URL:https://bornbuffalo.com/event/boston-comedy-club/
LOCATION:Resurgence Taproom\, 55 Chicago St.\, Buffalo\, NY\, 14204\, United States
CATEGORIES:Buffalo Event,Comedy,Nightlife
ATTACH;FMTTYPE=image/jpeg:https://bornbuffalo.com/wp-content/uploads/2023/11/Buffalo_Comedy.jpeg
END:VEVENT
BEGIN:VEVENT
DTSTART;TZID=America/New_York:20231231T210000
DTEND;TZID=America/New_York:20231231T233000
DTSTAMP:20260420T103005
CREATED:20231124T124941Z
LAST-MODIFIED:20231124T124941Z
UID:6533-1704056400-1704065400@bornbuffalo.com
SUMMARY:New Years Eve at Resurgence Brewing Co.!
DESCRIPTION:New Years Eve at Resurgence Brewing Co.!\nYou won’t want to miss out on this premier New Year’s Eve celebration at our taproom featuring an open bar\, food stations and champagne toast at midnight\, with special guest DJ Wrapid. \nOpen bar includes our full lineup of beer\, wine and liquor!\nBuffet-style food stations\nDJ Wrapid & Light set up\nPhoto station\nGet the New Years celebration YOU want! Enjoy DJ Wrapid with lights and dancing in our upstairs space\, or have a chill night with friends in our taproom! No matter the atmosphere\, you’ll still get to witness our GOLDEN KEG DROP at midnight! \nExclusive for Resurgence Rewards members! Get your ticket for $70!
URL:https://bornbuffalo.com/event/new-years-eve-at-resurgence-brewing-co/
LOCATION:Resurgence Taproom\, 55 Chicago St.\, Buffalo\, NY\, 14204\, United States
CATEGORIES:Buffalo Event,Nightlife
ATTACH;FMTTYPE=image/jpeg:https://bornbuffalo.com/wp-content/uploads/2023/11/New_Years_Party.jpeg
END:VEVENT
END:VCALENDAR