BEGIN:VCALENDAR
VERSION:2.0
PRODID:-//Born Buffalo - ECPv6.15.20//NONSGML v1.0//EN
CALSCALE:GREGORIAN
METHOD:PUBLISH
X-WR-CALNAME:Born Buffalo
X-ORIGINAL-URL:https://bornbuffalo.com
X-WR-CALDESC:Events for Born Buffalo
REFRESH-INTERVAL;VALUE=DURATION:PT1H
X-Robots-Tag:noindex
X-PUBLISHED-TTL:PT1H
BEGIN:VTIMEZONE
TZID:America/New_York
BEGIN:DAYLIGHT
TZOFFSETFROM:-0500
TZOFFSETTO:-0400
TZNAME:EDT
DTSTART:20220313T070000
END:DAYLIGHT
BEGIN:STANDARD
TZOFFSETFROM:-0400
TZOFFSETTO:-0500
TZNAME:EST
DTSTART:20221106T060000
END:STANDARD
BEGIN:DAYLIGHT
TZOFFSETFROM:-0500
TZOFFSETTO:-0400
TZNAME:EDT
DTSTART:20230312T070000
END:DAYLIGHT
BEGIN:STANDARD
TZOFFSETFROM:-0400
TZOFFSETTO:-0500
TZNAME:EST
DTSTART:20231105T060000
END:STANDARD
BEGIN:DAYLIGHT
TZOFFSETFROM:-0500
TZOFFSETTO:-0400
TZNAME:EDT
DTSTART:20240310T070000
END:DAYLIGHT
BEGIN:STANDARD
TZOFFSETFROM:-0400
TZOFFSETTO:-0500
TZNAME:EST
DTSTART:20241103T060000
END:STANDARD
END:VTIMEZONE
BEGIN:VEVENT
DTSTART;TZID=America/New_York:20231013T200000
DTEND;TZID=America/New_York:20231013T200000
DTSTAMP:20260421T004559
CREATED:20231005T175529Z
LAST-MODIFIED:20231005T175529Z
UID:4258-1697227200-1697227200@bornbuffalo.com
SUMMARY:Halloween Silent Disco
DESCRIPTION:FRIDAY THE 13TH HALLOWEEN Silent Disco\nat Resurgence Brewing!\nElectronic Dance Music | Hip Hop/R&B | Top40/Throwback Hits!\n*﻿*COSTUMES ENCOURAGED**\nTICKETS\n$10 – Advanced Pre-Sale (SOLD OUT!) \n$15 – Pre-Sale (SOLD OUT!) \n$20 – Regular Price (ON SALE!) \nTickets: https://bit.ly/silentdisco101323 \nEVENT INFO\nFRIDAY THE 13TH of October\n8PM – 12AM \n3 Channels of Music! \nElectronic Dance Music | Hip Hop/R&B | Top40/Throwback Hits \nProfessional Lighting Production! \nUV Halloween Decoration! \nGreat Drink Specials! \n21+ ID Required for Entry and Silent Disco Headphones \nDJ\nBANDO \nVENUE INFO\nResurgence Brewing Company \nAddress: 55 Chicago St\, Buffalo\, NY 14204
URL:https://bornbuffalo.com/event/halloween-silent-disco/
LOCATION:Resurgence Taproom\, 55 Chicago St.\, Buffalo\, NY\, 14204\, United States
CATEGORIES:Buffalo Event,Nightlife
ATTACH;FMTTYPE=image/webp:https://bornbuffalo.com/wp-content/uploads/2023/10/Resurgence.webp
END:VEVENT
END:VCALENDAR