BEGIN:VCALENDAR
VERSION:2.0
PRODID:-//Born Buffalo - ECPv6.15.20//NONSGML v1.0//EN
CALSCALE:GREGORIAN
METHOD:PUBLISH
X-WR-CALNAME:Born Buffalo
X-ORIGINAL-URL:https://bornbuffalo.com
X-WR-CALDESC:Events for Born Buffalo
REFRESH-INTERVAL;VALUE=DURATION:PT1H
X-Robots-Tag:noindex
X-PUBLISHED-TTL:PT1H
BEGIN:VTIMEZONE
TZID:America/New_York
BEGIN:DAYLIGHT
TZOFFSETFROM:-0500
TZOFFSETTO:-0400
TZNAME:EDT
DTSTART:20220313T070000
END:DAYLIGHT
BEGIN:STANDARD
TZOFFSETFROM:-0400
TZOFFSETTO:-0500
TZNAME:EST
DTSTART:20221106T060000
END:STANDARD
BEGIN:DAYLIGHT
TZOFFSETFROM:-0500
TZOFFSETTO:-0400
TZNAME:EDT
DTSTART:20230312T070000
END:DAYLIGHT
BEGIN:STANDARD
TZOFFSETFROM:-0400
TZOFFSETTO:-0500
TZNAME:EST
DTSTART:20231105T060000
END:STANDARD
BEGIN:DAYLIGHT
TZOFFSETFROM:-0500
TZOFFSETTO:-0400
TZNAME:EDT
DTSTART:20240310T070000
END:DAYLIGHT
BEGIN:STANDARD
TZOFFSETFROM:-0400
TZOFFSETTO:-0500
TZNAME:EST
DTSTART:20241103T060000
END:STANDARD
END:VTIMEZONE
BEGIN:VEVENT
DTSTART;TZID=America/New_York:20231015T180000
DTEND;TZID=America/New_York:20231015T180000
DTSTAMP:20260421T004557
CREATED:20230913T190332Z
LAST-MODIFIED:20230914T114903Z
UID:2938-1697392800-1697392800@bornbuffalo.com
SUMMARY:THE WONDER YEARS: THE GREATEST GENERATION 10TH ANNIVERSARY TOUR
DESCRIPTION:After Dark Presents\nThe Wonder Years: The Greatest Generation 10th Anniversary Tour\nwith Anxious\, Sweet Pill\, Action/Adventure  \n16+ Admitted with ID / Under 16 Admitted with Guardian / No One Under 12 Admitted
URL:https://bornbuffalo.com/event/the-wonder-years-the-greatest-generation-10th-anniversary-tour/
LOCATION:Town Ballroom\, 681 Main St.\, Buffalo\, NY\, 14203\, United States
CATEGORIES:Buffalo Event,Live Music,Nightlife
ATTACH;FMTTYPE=image/jpeg:https://bornbuffalo.com/wp-content/uploads/2023/09/The_28471685959623.jpeg
ORGANIZER;CN="After Dark Presents":MAILTO:info@afterdarkpresents.com
END:VEVENT
BEGIN:VEVENT
DTSTART;TZID=America/New_York:20231015T190000
DTEND;TZID=America/New_York:20231015T190000
DTSTAMP:20260421T004557
CREATED:20230915T141238Z
LAST-MODIFIED:20230915T141238Z
UID:3059-1697396400-1697396400@bornbuffalo.com
SUMMARY:RED CLAY STRAYS W/ NOLAN TAYLOR
DESCRIPTION:Buffalo Iron Works & Back to Back Present: Red Clay Strays w/ Nolan Taylor – Sunday Oct 15th\, 2023! \nRed Clay Strays \nHailing from Mobile\, AL\, The Red Clay Strays are forging a new path with their spellbinding\, genre-bending\, brand of tunes. Inspired by the vibrant heyday of southern music\, while also ushering in a new era of rock-and-roll that is as distinctive as the men who form it. Brandon Coleman (lead vocals/guitar)\, Drew Nix (vocals/electric guitar/harmonica)\, Zach Rishel (electric guitar)\, Andrew Bishop (bass)\, and John Hall (drums)\, blend their unique individualities and influences to create a sound with a rare sincerity that isn’t often seen in today’s industry. After spending the past six years cutting their teeth in the Gulf Coast music scene while simultaneously running the roads discovering who they are and where they belong in the world\, The Red Clay Strays are taking the world by storm with their music\, one performance at a time. \nBuffalo Iron Works\n49 Illinois St Buffalo\, NY 14203 \nTickets: $15 ADV/$25 DOS\nDoors: 7:00pm\nShow: 8:00pm\nAges: 18+
URL:https://bornbuffalo.com/event/red-clay-strays-w-nolan-taylor/
LOCATION:Buffalo Iron Works\, 49 Illinois St\, Buffalo\, NY\, 14203\, United States
CATEGORIES:Buffalo Event,Live Music,Nightlife
ATTACH;FMTTYPE=image/jpeg:https://bornbuffalo.com/wp-content/uploads/2023/09/Red-Clay-Strays.jpeg
END:VEVENT
END:VCALENDAR