BEGIN:VCALENDAR
VERSION:2.0
PRODID:-//Born Buffalo - ECPv6.15.20//NONSGML v1.0//EN
CALSCALE:GREGORIAN
METHOD:PUBLISH
X-ORIGINAL-URL:https://bornbuffalo.com
X-WR-CALDESC:Events for Born Buffalo
REFRESH-INTERVAL;VALUE=DURATION:PT1H
X-Robots-Tag:noindex
X-PUBLISHED-TTL:PT1H
BEGIN:VTIMEZONE
TZID:America/New_York
BEGIN:DAYLIGHT
TZOFFSETFROM:-0500
TZOFFSETTO:-0400
TZNAME:EDT
DTSTART:20220313T070000
END:DAYLIGHT
BEGIN:STANDARD
TZOFFSETFROM:-0400
TZOFFSETTO:-0500
TZNAME:EST
DTSTART:20221106T060000
END:STANDARD
BEGIN:DAYLIGHT
TZOFFSETFROM:-0500
TZOFFSETTO:-0400
TZNAME:EDT
DTSTART:20230312T070000
END:DAYLIGHT
BEGIN:STANDARD
TZOFFSETFROM:-0400
TZOFFSETTO:-0500
TZNAME:EST
DTSTART:20231105T060000
END:STANDARD
BEGIN:DAYLIGHT
TZOFFSETFROM:-0500
TZOFFSETTO:-0400
TZNAME:EDT
DTSTART:20240310T070000
END:DAYLIGHT
BEGIN:STANDARD
TZOFFSETFROM:-0400
TZOFFSETTO:-0500
TZNAME:EST
DTSTART:20241103T060000
END:STANDARD
END:VTIMEZONE
BEGIN:VEVENT
DTSTART;TZID=America/New_York:20231111T163000
DTEND;TZID=America/New_York:20231111T163000
DTSTAMP:20260420T213650
CREATED:20230913T202351Z
LAST-MODIFIED:20230914T114717Z
UID:2957-1699720200-1699720200@bornbuffalo.com
SUMMARY:FALL BALL – FEATURING 10 BANDS ON 2 STAGES
DESCRIPTION:Fall Ball\nfeaturing…\nWitty Tarbox\, FARROW\, Funktional Flow\, Lazlo Hollyfeld\, David Jonathan\, Johnny Hart\, Grace Greenan\, Aircraft\, Diyené\, and (BEÜ)\nAges 16+\nGovernment Issued ID Required \n$25 in advance\n$35 day of show
URL:https://bornbuffalo.com/event/fall-ball-featuring-10-bands-on-2-stages/
LOCATION:Town Ballroom\, 681 Main St.\, Buffalo\, NY\, 14203\, United States
CATEGORIES:Buffalo Event,Live Music,Nightlife
ATTACH;FMTTYPE=image/jpeg:https://bornbuffalo.com/wp-content/uploads/2023/09/FALL_30221694192155.jpeg
END:VEVENT
BEGIN:VEVENT
DTSTART;TZID=America/New_York:20231111T190000
DTEND;TZID=America/New_York:20231111T190000
DTSTAMP:20260420T213650
CREATED:20230915T172825Z
LAST-MODIFIED:20230915T172825Z
UID:3131-1699729200-1699729200@bornbuffalo.com
SUMMARY:REV. PEYTON’S BIG DAMN BAND
DESCRIPTION:Rev. Peyton’s Big Damn Band performs live at Buffalo Iron Works on Saturday November 11th\, 2023! \nRev. Peyton’s Big Damn Band \nThree time BMA nominee’s The Reverend Peyton’s Big Damn Band are “the greatest front-porch blues band in the world.” They are led by Reverend Peyton\, who most consider to be the premier finger picker playing today. \nHe has earned a reputation as both a singularly compelling performer and a persuasive evangelist for the rootsy\, country blues styles that captured his imagination early in life and inspired him and his band to make pilgrimages to Clarksdale\, Mississippi to study under such blues masters as T-Model Ford\, Robert Belfour and David “Honeyboy” Edwards. \nTheir latest record Dance SongsFor Hard Times went #1 on the Billboard\, iTunes and Sirius XM BluesCharts and was produced by Grammy winner Vance Powell (Jack White\,Chris Stapleton). The record is critically acclaimed by Rolling Stone\, Relix\, Pop matters\, Guitar World\, American Songwriter\, No Depression\,Glide\, Wide Open Country\, Paste\, American Blues Scene and many more! \nBuffalo Iron Works \n49 Illinois St Buffalo\, NY 14203 \nTickets: $20 ADV/$25 DOS \nDoors: 7:00pm \nShow: 8:00pm \nAges: 18+
URL:https://bornbuffalo.com/event/rev-peytons-big-damn-band/
LOCATION:Buffalo Iron Works\, 49 Illinois St\, Buffalo\, NY\, 14203\, United States
CATEGORIES:Buffalo Event,Live Music,Nightlife
ATTACH;FMTTYPE=image/jpeg:https://bornbuffalo.com/wp-content/uploads/2023/09/Rev.jpeg
END:VEVENT
END:VCALENDAR