BEGIN:VCALENDAR
VERSION:2.0
PRODID:-//Born Buffalo - ECPv6.15.20//NONSGML v1.0//EN
CALSCALE:GREGORIAN
METHOD:PUBLISH
X-ORIGINAL-URL:https://bornbuffalo.com
X-WR-CALDESC:Events for Born Buffalo
REFRESH-INTERVAL;VALUE=DURATION:PT1H
X-Robots-Tag:noindex
X-PUBLISHED-TTL:PT1H
BEGIN:VTIMEZONE
TZID:America/New_York
BEGIN:DAYLIGHT
TZOFFSETFROM:-0500
TZOFFSETTO:-0400
TZNAME:EDT
DTSTART:20220313T070000
END:DAYLIGHT
BEGIN:STANDARD
TZOFFSETFROM:-0400
TZOFFSETTO:-0500
TZNAME:EST
DTSTART:20221106T060000
END:STANDARD
BEGIN:DAYLIGHT
TZOFFSETFROM:-0500
TZOFFSETTO:-0400
TZNAME:EDT
DTSTART:20230312T070000
END:DAYLIGHT
BEGIN:STANDARD
TZOFFSETFROM:-0400
TZOFFSETTO:-0500
TZNAME:EST
DTSTART:20231105T060000
END:STANDARD
BEGIN:DAYLIGHT
TZOFFSETFROM:-0500
TZOFFSETTO:-0400
TZNAME:EDT
DTSTART:20240310T070000
END:DAYLIGHT
BEGIN:STANDARD
TZOFFSETFROM:-0400
TZOFFSETTO:-0500
TZNAME:EST
DTSTART:20241103T060000
END:STANDARD
END:VTIMEZONE
BEGIN:VEVENT
DTSTART;TZID=America/New_York:20231205T190000
DTEND;TZID=America/New_York:20231205T220000
DTSTAMP:20260420T155347
CREATED:20231124T123601Z
LAST-MODIFIED:20231124T123601Z
UID:6520-1701802800-1701813600@bornbuffalo.com
SUMMARY:Nerd Nite
DESCRIPTION:Nerd Nite\nJoin us for our next Nerd Nite talk\, a seminar-style event! \nCome drink some beer\, tour our Chicago St. brewery\, and learn about problematic passwords and how to get free flights. \nSpeaker Line-Up: \nBrad Post\, Cyber Security Professional/Enthusiast\nSam Anthony\, Lead Content Editor at Nomadic Matt\nTickets are $10 and include the tour and the speakers (free beer will be provided during the tour!)
URL:https://bornbuffalo.com/event/nerd-nite/
LOCATION:Resurgence Taproom\, 55 Chicago St.\, Buffalo\, NY\, 14204\, United States
CATEGORIES:Buffalo Event,Nightlife
ATTACH;FMTTYPE=image/jpeg:https://bornbuffalo.com/wp-content/uploads/2023/11/Nerd_Nite.jpeg
END:VEVENT
END:VCALENDAR