BEGIN:VCALENDAR
VERSION:2.0
PRODID:-//Born Buffalo - ECPv6.15.20//NONSGML v1.0//EN
CALSCALE:GREGORIAN
METHOD:PUBLISH
X-ORIGINAL-URL:https://bornbuffalo.com
X-WR-CALDESC:Events for Born Buffalo
REFRESH-INTERVAL;VALUE=DURATION:PT1H
X-Robots-Tag:noindex
X-PUBLISHED-TTL:PT1H
BEGIN:VTIMEZONE
TZID:America/New_York
BEGIN:DAYLIGHT
TZOFFSETFROM:-0500
TZOFFSETTO:-0400
TZNAME:EDT
DTSTART:20220313T070000
END:DAYLIGHT
BEGIN:STANDARD
TZOFFSETFROM:-0400
TZOFFSETTO:-0500
TZNAME:EST
DTSTART:20221106T060000
END:STANDARD
BEGIN:DAYLIGHT
TZOFFSETFROM:-0500
TZOFFSETTO:-0400
TZNAME:EDT
DTSTART:20230312T070000
END:DAYLIGHT
BEGIN:STANDARD
TZOFFSETFROM:-0400
TZOFFSETTO:-0500
TZNAME:EST
DTSTART:20231105T060000
END:STANDARD
BEGIN:DAYLIGHT
TZOFFSETFROM:-0500
TZOFFSETTO:-0400
TZNAME:EDT
DTSTART:20240310T070000
END:DAYLIGHT
BEGIN:STANDARD
TZOFFSETFROM:-0400
TZOFFSETTO:-0500
TZNAME:EST
DTSTART:20241103T060000
END:STANDARD
END:VTIMEZONE
BEGIN:VEVENT
DTSTART;TZID=America/New_York:20231216T160000
DTEND;TZID=America/New_York:20231216T160000
DTSTAMP:20260421T085146
CREATED:20230914T120119Z
LAST-MODIFIED:20230914T120119Z
UID:2993-1702742400-1702742400@bornbuffalo.com
SUMMARY:LET’S SING TAYLOR: A LIVE BAND EXPERIENCE [MATINEE]
DESCRIPTION:Funtime Presents\nLet’s Sing Taylor\nA Live Band Experience\nMatinee\nAll Ages\nUnder 16 Must be accompanied by a parent or guardian
URL:https://bornbuffalo.com/event/lets-sing-taylor-a-live-band-experience-matinee/
LOCATION:Town Ballroom\, 681 Main St.\, Buffalo\, NY\, 14203\, United States
CATEGORIES:Buffalo Event,Live Music,Nightlife
ATTACH;FMTTYPE=image/jpeg:https://bornbuffalo.com/wp-content/uploads/2023/09/Lets_29821691776554.jpeg
END:VEVENT
BEGIN:VEVENT
DTSTART;TZID=America/New_York:20231216T203000
DTEND;TZID=America/New_York:20231216T203000
DTSTAMP:20260421T085146
CREATED:20230915T175552Z
LAST-MODIFIED:20230915T175552Z
UID:3164-1702758600-1702758600@bornbuffalo.com
SUMMARY:DMVU & TOADFACE
DESCRIPTION:MNM Presents\nDMVU & Toadface\nIDTGA TOur 2023\nw/ special guests tba\nSaturday December 16\nBuffalo Iron Works\n830pm 18+ $19.50+ \nDMVU\nlinktr.ee/dmvu\ntwitter.com/DMVUofficial\ninstagram.com/DMVUofficial\nsoundcloud.com/dmvuofficial \nToadface\nlinktr.ee/toadface777\nsoundcloud.com/toadface\ninstagram.com/toadfacemusic \nIt’s Dangerous To Go Alone:\nspecial guests tba! \nHosted by\nmnmpresents.com
URL:https://bornbuffalo.com/event/dmvu-toadface/
LOCATION:Buffalo Iron Works\, 49 Illinois St\, Buffalo\, NY\, 14203\, United States
CATEGORIES:Buffalo Event,Live Music,Nightlife
ATTACH;FMTTYPE=image/jpeg:https://bornbuffalo.com/wp-content/uploads/2023/09/DMVU-Toadface-buffalo-fbEvent.jpeg
END:VEVENT
END:VCALENDAR