BEGIN:VCALENDAR
VERSION:2.0
PRODID:-//Born Buffalo - ECPv6.15.20//NONSGML v1.0//EN
CALSCALE:GREGORIAN
METHOD:PUBLISH
X-ORIGINAL-URL:https://bornbuffalo.com
X-WR-CALDESC:Events for Born Buffalo
REFRESH-INTERVAL;VALUE=DURATION:PT1H
X-Robots-Tag:noindex
X-PUBLISHED-TTL:PT1H
BEGIN:VTIMEZONE
TZID:America/New_York
BEGIN:DAYLIGHT
TZOFFSETFROM:-0500
TZOFFSETTO:-0400
TZNAME:EDT
DTSTART:20220313T070000
END:DAYLIGHT
BEGIN:STANDARD
TZOFFSETFROM:-0400
TZOFFSETTO:-0500
TZNAME:EST
DTSTART:20221106T060000
END:STANDARD
BEGIN:DAYLIGHT
TZOFFSETFROM:-0500
TZOFFSETTO:-0400
TZNAME:EDT
DTSTART:20230312T070000
END:DAYLIGHT
BEGIN:STANDARD
TZOFFSETFROM:-0400
TZOFFSETTO:-0500
TZNAME:EST
DTSTART:20231105T060000
END:STANDARD
BEGIN:DAYLIGHT
TZOFFSETFROM:-0500
TZOFFSETTO:-0400
TZNAME:EDT
DTSTART:20240310T070000
END:DAYLIGHT
BEGIN:STANDARD
TZOFFSETFROM:-0400
TZOFFSETTO:-0500
TZNAME:EST
DTSTART:20241103T060000
END:STANDARD
END:VTIMEZONE
BEGIN:VEVENT
DTSTART;TZID=America/New_York:20231231T210000
DTEND;TZID=America/New_York:20231231T233000
DTSTAMP:20260420T020630
CREATED:20231124T124941Z
LAST-MODIFIED:20231124T124941Z
UID:6533-1704056400-1704065400@bornbuffalo.com
SUMMARY:New Years Eve at Resurgence Brewing Co.!
DESCRIPTION:New Years Eve at Resurgence Brewing Co.!\nYou won’t want to miss out on this premier New Year’s Eve celebration at our taproom featuring an open bar\, food stations and champagne toast at midnight\, with special guest DJ Wrapid. \nOpen bar includes our full lineup of beer\, wine and liquor!\nBuffet-style food stations\nDJ Wrapid & Light set up\nPhoto station\nGet the New Years celebration YOU want! Enjoy DJ Wrapid with lights and dancing in our upstairs space\, or have a chill night with friends in our taproom! No matter the atmosphere\, you’ll still get to witness our GOLDEN KEG DROP at midnight! \nExclusive for Resurgence Rewards members! Get your ticket for $70!
URL:https://bornbuffalo.com/event/new-years-eve-at-resurgence-brewing-co/
LOCATION:Resurgence Taproom\, 55 Chicago St.\, Buffalo\, NY\, 14204\, United States
CATEGORIES:Buffalo Event,Nightlife
ATTACH;FMTTYPE=image/jpeg:https://bornbuffalo.com/wp-content/uploads/2023/11/New_Years_Party.jpeg
END:VEVENT
END:VCALENDAR