BEGIN:VCALENDAR
VERSION:2.0
PRODID:-//Born Buffalo - ECPv6.15.20//NONSGML v1.0//EN
CALSCALE:GREGORIAN
METHOD:PUBLISH
X-ORIGINAL-URL:https://bornbuffalo.com
X-WR-CALDESC:Events for Born Buffalo
REFRESH-INTERVAL;VALUE=DURATION:PT1H
X-Robots-Tag:noindex
X-PUBLISHED-TTL:PT1H
BEGIN:VTIMEZONE
TZID:America/New_York
BEGIN:DAYLIGHT
TZOFFSETFROM:-0500
TZOFFSETTO:-0400
TZNAME:EDT
DTSTART:20230312T070000
END:DAYLIGHT
BEGIN:STANDARD
TZOFFSETFROM:-0400
TZOFFSETTO:-0500
TZNAME:EST
DTSTART:20231105T060000
END:STANDARD
BEGIN:DAYLIGHT
TZOFFSETFROM:-0500
TZOFFSETTO:-0400
TZNAME:EDT
DTSTART:20240310T070000
END:DAYLIGHT
BEGIN:STANDARD
TZOFFSETFROM:-0400
TZOFFSETTO:-0500
TZNAME:EST
DTSTART:20241103T060000
END:STANDARD
BEGIN:DAYLIGHT
TZOFFSETFROM:-0500
TZOFFSETTO:-0400
TZNAME:EDT
DTSTART:20250309T070000
END:DAYLIGHT
BEGIN:STANDARD
TZOFFSETFROM:-0400
TZOFFSETTO:-0500
TZNAME:EST
DTSTART:20251102T060000
END:STANDARD
BEGIN:DAYLIGHT
TZOFFSETFROM:-0500
TZOFFSETTO:-0400
TZNAME:EDT
DTSTART:20260308T070000
END:DAYLIGHT
BEGIN:STANDARD
TZOFFSETFROM:-0400
TZOFFSETTO:-0500
TZNAME:EST
DTSTART:20261101T060000
END:STANDARD
END:VTIMEZONE
BEGIN:VEVENT
DTSTART;TZID=America/New_York:20250301T190000
DTEND;TZID=America/New_York:20250301T220000
DTSTAMP:20260421T235406
CREATED:20240912T150946Z
LAST-MODIFIED:20240912T150946Z
UID:16512-1740855600-1740866400@bornbuffalo.com
SUMMARY:Canadiens @ Sabres
DESCRIPTION:Buy your tickets online! Montreal Canadiens @ Buffalo Sabres | 7:00pm\, Saturday 03/01/2025
URL:https://bornbuffalo.com/event/canadiens-sabres-2/
LOCATION:KeyBank Center\, 1 Seymour H Knox III Plaza\, Buffalo\, NY\, 14203\, United States
CATEGORIES:Sports
ATTACH;FMTTYPE=image/jpeg:https://bornbuffalo.com/wp-content/uploads/2024/06/Lawn-Sign-Fundraiser-Lets-Go-Buffalo-300x300-1.jpg
END:VEVENT
BEGIN:VEVENT
DTSTART;TZID=America/New_York:20250225T190000
DTEND;TZID=America/New_York:20250225T220000
DTSTAMP:20260421T235406
CREATED:20240912T150945Z
LAST-MODIFIED:20240912T150945Z
UID:16511-1740510000-1740520800@bornbuffalo.com
SUMMARY:Ducks @ Sabres
DESCRIPTION:Buy your tickets online! Anaheim Ducks @ Buffalo Sabres | 7:00pm\, Tuesday 02/25/2025
URL:https://bornbuffalo.com/event/ducks-sabres/
LOCATION:KeyBank Center\, 1 Seymour H Knox III Plaza\, Buffalo\, NY\, 14203\, United States
CATEGORIES:Sports
ATTACH;FMTTYPE=image/jpeg:https://bornbuffalo.com/wp-content/uploads/2024/06/Lawn-Sign-Fundraiser-Lets-Go-Buffalo-300x300-1.jpg
END:VEVENT
BEGIN:VEVENT
DTSTART;TZID=America/New_York:20250222T173000
DTEND;TZID=America/New_York:20250222T203000
DTSTAMP:20260421T235406
CREATED:20240912T150943Z
LAST-MODIFIED:20240912T150943Z
UID:16510-1740245400-1740256200@bornbuffalo.com
SUMMARY:Rangers @ Sabres
DESCRIPTION:Buy your tickets online! New York Rangers @ Buffalo Sabres | 5:30pm\, Saturday 02/22/2025
URL:https://bornbuffalo.com/event/rangers-sabres-2/
LOCATION:KeyBank Center\, 1 Seymour H Knox III Plaza\, Buffalo\, NY\, 14203\, United States
CATEGORIES:Sports
ATTACH;FMTTYPE=image/jpeg:https://bornbuffalo.com/wp-content/uploads/2024/06/Lawn-Sign-Fundraiser-Lets-Go-Buffalo-300x300-1.jpg
END:VEVENT
BEGIN:VEVENT
DTSTART;TZID=America/New_York:20250204T190000
DTEND;TZID=America/New_York:20250204T220000
DTSTAMP:20260421T235406
CREATED:20240912T150942Z
LAST-MODIFIED:20240912T150942Z
UID:16509-1738695600-1738706400@bornbuffalo.com
SUMMARY:Blue Jackets @ Sabres
DESCRIPTION:Buy your tickets online! Columbus Blue Jackets @ Buffalo Sabres | 7:00pm\, Tuesday 02/04/2025
URL:https://bornbuffalo.com/event/blue-jackets-sabres/
LOCATION:KeyBank Center\, 1 Seymour H Knox III Plaza\, Buffalo\, NY\, 14203\, United States
CATEGORIES:Sports
ATTACH;FMTTYPE=image/jpeg:https://bornbuffalo.com/wp-content/uploads/2024/06/Lawn-Sign-Fundraiser-Lets-Go-Buffalo-300x300-1.jpg
END:VEVENT
BEGIN:VEVENT
DTSTART;TZID=America/New_York:20250202T130000
DTEND;TZID=America/New_York:20250202T160000
DTSTAMP:20260421T235406
CREATED:20240912T150932Z
LAST-MODIFIED:20240912T150932Z
UID:16508-1738501200-1738512000@bornbuffalo.com
SUMMARY:Devils @ Sabres
DESCRIPTION:Buy your tickets online! New Jersey Devils @ Buffalo Sabres | 1:00pm\, Sunday 02/02/2025
URL:https://bornbuffalo.com/event/devils-sabres/
LOCATION:KeyBank Center\, 1 Seymour H Knox III Plaza\, Buffalo\, NY\, 14203\, United States
CATEGORIES:Sports
ATTACH;FMTTYPE=image/jpeg:https://bornbuffalo.com/wp-content/uploads/2024/06/Lawn-Sign-Fundraiser-Lets-Go-Buffalo-300x300-1.jpg
END:VEVENT
BEGIN:VEVENT
DTSTART;TZID=America/New_York:20250131T190000
DTEND;TZID=America/New_York:20250131T220000
DTSTAMP:20260421T235406
CREATED:20240912T150931Z
LAST-MODIFIED:20240912T150931Z
UID:16507-1738350000-1738360800@bornbuffalo.com
SUMMARY:Predators @ Sabres
DESCRIPTION:Buy your tickets online! Nashville Predators @ Buffalo Sabres | 7:00pm\, Friday 1/31/2025
URL:https://bornbuffalo.com/event/predators-sabres/
LOCATION:KeyBank Center\, 1 Seymour H Knox III Plaza\, Buffalo\, NY\, 14203\, United States
CATEGORIES:Sports
ATTACH;FMTTYPE=image/jpeg:https://bornbuffalo.com/wp-content/uploads/2024/06/Lawn-Sign-Fundraiser-Lets-Go-Buffalo-300x300-1.jpg
END:VEVENT
BEGIN:VEVENT
DTSTART;TZID=America/New_York:20250128T190000
DTEND;TZID=America/New_York:20250128T220000
DTSTAMP:20260421T235406
CREATED:20240912T150930Z
LAST-MODIFIED:20240912T150930Z
UID:16506-1738090800-1738101600@bornbuffalo.com
SUMMARY:Bruins @ Sabres
DESCRIPTION:Buy your tickets online! Boston Bruins @ Buffalo Sabres | 7:00pm\, Tuesday 1/28/2025
URL:https://bornbuffalo.com/event/bruins-sabres/
LOCATION:KeyBank Center\, 1 Seymour H Knox III Plaza\, Buffalo\, NY\, 14203\, United States
CATEGORIES:Sports
ATTACH;FMTTYPE=image/jpeg:https://bornbuffalo.com/wp-content/uploads/2024/06/Lawn-Sign-Fundraiser-Lets-Go-Buffalo-300x300-1.jpg
END:VEVENT
BEGIN:VEVENT
DTSTART;TZID=America/New_York:20250117T190000
DTEND;TZID=America/New_York:20250117T220000
DTSTAMP:20260421T235406
CREATED:20240912T150928Z
LAST-MODIFIED:20240912T150928Z
UID:16505-1737140400-1737151200@bornbuffalo.com
SUMMARY:Penguins @ Sabres
DESCRIPTION:Buy your tickets online! Pittsburgh Penguins @ Buffalo Sabres | 7:00pm\, Friday 1/17/2025
URL:https://bornbuffalo.com/event/penguins-sabres/
LOCATION:KeyBank Center\, 1 Seymour H Knox III Plaza\, Buffalo\, NY\, 14203\, United States
CATEGORIES:Sports
ATTACH;FMTTYPE=image/jpeg:https://bornbuffalo.com/wp-content/uploads/2024/06/Lawn-Sign-Fundraiser-Lets-Go-Buffalo-300x300-1.jpg
END:VEVENT
BEGIN:VEVENT
DTSTART;TZID=America/New_York:20250115T180000
DTEND;TZID=America/New_York:20250115T210000
DTSTAMP:20260421T235406
CREATED:20240912T150927Z
LAST-MODIFIED:20240912T150927Z
UID:16504-1736964000-1736974800@bornbuffalo.com
SUMMARY:Hurricanes @ Sabres
DESCRIPTION:Buy your tickets online! Carolina Hurricanes @ Buffalo Sabres | 6:00pm\, Wednesday 1/15/2025
URL:https://bornbuffalo.com/event/hurricanes-sabres/
LOCATION:KeyBank Center\, 1 Seymour H Knox III Plaza\, Buffalo\, NY\, 14203\, United States
CATEGORIES:Sports
ATTACH;FMTTYPE=image/jpeg:https://bornbuffalo.com/wp-content/uploads/2024/06/Lawn-Sign-Fundraiser-Lets-Go-Buffalo-300x300-1.jpg
END:VEVENT
BEGIN:VEVENT
DTSTART;TZID=America/New_York:20250111T160000
DTEND;TZID=America/New_York:20250111T190000
DTSTAMP:20260421T235406
CREATED:20240912T150917Z
LAST-MODIFIED:20240912T150917Z
UID:16503-1736611200-1736622000@bornbuffalo.com
SUMMARY:Kraken @ Sabres
DESCRIPTION:Buy your tickets online! Seattle Kraken @ Buffalo Sabres | 4:00pm\, Saturday 1/11/2025
URL:https://bornbuffalo.com/event/kraken-sabres/
LOCATION:KeyBank Center\, 1 Seymour H Knox III Plaza\, Buffalo\, NY\, 14203\, United States
CATEGORIES:Sports
ATTACH;FMTTYPE=image/jpeg:https://bornbuffalo.com/wp-content/uploads/2024/06/Lawn-Sign-Fundraiser-Lets-Go-Buffalo-300x300-1.jpg
END:VEVENT
BEGIN:VEVENT
DTSTART;TZID=America/New_York:20250106T190000
DTEND;TZID=America/New_York:20250106T220000
DTSTAMP:20260421T235406
CREATED:20240912T150916Z
LAST-MODIFIED:20240912T150916Z
UID:16502-1736190000-1736200800@bornbuffalo.com
SUMMARY:Capitals @ Sabres
DESCRIPTION:Buy your tickets online! Washington Capitals @ Buffalo Sabres | 7:00pm\, Monday 1/06/2025
URL:https://bornbuffalo.com/event/capitals-sabres/
LOCATION:KeyBank Center\, 1 Seymour H Knox III Plaza\, Buffalo\, NY\, 14203\, United States
CATEGORIES:Sports
ATTACH;FMTTYPE=image/jpeg:https://bornbuffalo.com/wp-content/uploads/2024/06/Lawn-Sign-Fundraiser-Lets-Go-Buffalo-300x300-1.jpg
END:VEVENT
BEGIN:VEVENT
DTSTART;TZID=America/New_York:20241229T130000
DTEND;TZID=America/New_York:20241229T160000
DTSTAMP:20260421T235406
CREATED:20240910T134252Z
LAST-MODIFIED:20240910T141732Z
UID:16349-1735477200-1735488000@bornbuffalo.com
SUMMARY:Jets @ Bills
DESCRIPTION:Buy your tickets online! New York Jets @ Buffalo Bills | 1:00pm\, Sunday 12/29/2024
URL:https://bornbuffalo.com/event/jets-bills/
LOCATION:Highmark Stadium\, 1 Bills Dr\, Orchard Park\, 14127\, United States
CATEGORIES:Sports
ATTACH;FMTTYPE=image/jpeg:https://bornbuffalo.com/wp-content/uploads/2024/09/goilhk26dbftrcej0qad-min.jpg
END:VEVENT
BEGIN:VEVENT
DTSTART;TZID=America/New_York:20241227T190000
DTEND;TZID=America/New_York:20241227T220000
DTSTAMP:20260421T235406
CREATED:20240912T150915Z
LAST-MODIFIED:20240912T150915Z
UID:16501-1735326000-1735336800@bornbuffalo.com
SUMMARY:Blackhawks @ Sabres
DESCRIPTION:Buy your tickets online! Chicago Blackhawks @ Buffalo Sabres | 7:00pm\, Friday 12/27/2024
URL:https://bornbuffalo.com/event/blackhawks-sabres/
LOCATION:KeyBank Center\, 1 Seymour H Knox III Plaza\, Buffalo\, NY\, 14203\, United States
CATEGORIES:Sports
ATTACH;FMTTYPE=image/jpeg:https://bornbuffalo.com/wp-content/uploads/2024/06/Lawn-Sign-Fundraiser-Lets-Go-Buffalo-300x300-1.jpg
END:VEVENT
BEGIN:VEVENT
DTSTART;TZID=America/New_York:20241222T130000
DTEND;TZID=America/New_York:20241222T160000
DTSTAMP:20260421T235406
CREATED:20240910T134252Z
LAST-MODIFIED:20240910T141744Z
UID:16350-1734872400-1734883200@bornbuffalo.com
SUMMARY:Patriots @ Bills
DESCRIPTION:Buy your tickets online! New England Patriots @ Buffalo Bills | 1:00pm\, Sunday 12/22/2024
URL:https://bornbuffalo.com/event/patriots-bills-2/
LOCATION:Highmark Stadium\, 1 Bills Dr\, Orchard Park\, 14127\, United States
CATEGORIES:Sports
ATTACH;FMTTYPE=image/jpeg:https://bornbuffalo.com/wp-content/uploads/2024/09/goilhk26dbftrcej0qad-min.jpg
END:VEVENT
BEGIN:VEVENT
DTSTART;TZID=America/New_York:20241220T190000
DTEND;TZID=America/New_York:20241220T220000
DTSTAMP:20260421T235406
CREATED:20240912T150913Z
LAST-MODIFIED:20240912T150913Z
UID:16500-1734721200-1734732000@bornbuffalo.com
SUMMARY:Maple Leafs @ Sabres
DESCRIPTION:Buy your tickets online! Toronto Maple Leafs @ Buffalo Sabres | 7:00pm\, Friday 12/20/2024
URL:https://bornbuffalo.com/event/maple-leafs-sabres/
LOCATION:KeyBank Center\, 1 Seymour H Knox III Plaza\, Buffalo\, NY\, 14203\, United States
CATEGORIES:Sports
ATTACH;FMTTYPE=image/jpeg:https://bornbuffalo.com/wp-content/uploads/2024/06/Lawn-Sign-Fundraiser-Lets-Go-Buffalo-300x300-1.jpg
END:VEVENT
BEGIN:VEVENT
DTSTART;TZID=America/New_York:20241211T193000
DTEND;TZID=America/New_York:20241211T223000
DTSTAMP:20260421T235406
CREATED:20240912T150912Z
LAST-MODIFIED:20240912T150912Z
UID:16499-1733945400-1733956200@bornbuffalo.com
SUMMARY:Rangers @ Sabres
DESCRIPTION:Buy your tickets online! New York Rangers @ Buffalo Sabres | 7:30pm\, Wednesday 12/11/2024
URL:https://bornbuffalo.com/event/rangers-sabres/
LOCATION:KeyBank Center\, 1 Seymour H Knox III Plaza\, Buffalo\, NY\, 14203\, United States
CATEGORIES:Sports
ATTACH;FMTTYPE=image/jpeg:https://bornbuffalo.com/wp-content/uploads/2024/06/Lawn-Sign-Fundraiser-Lets-Go-Buffalo-300x300-1.jpg
END:VEVENT
BEGIN:VEVENT
DTSTART;TZID=America/New_York:20241209T190000
DTEND;TZID=America/New_York:20241209T220000
DTSTAMP:20260421T235406
CREATED:20240912T150902Z
LAST-MODIFIED:20240912T150902Z
UID:16498-1733770800-1733781600@bornbuffalo.com
SUMMARY:Red Wings @ Sabres
DESCRIPTION:Buy your tickets online! Detroit Red Wings @ Buffalo Sabres | 7:00pm\, Monday 12/09/2024
URL:https://bornbuffalo.com/event/red-wings-sabres-2/
LOCATION:KeyBank Center\, 1 Seymour H Knox III Plaza\, Buffalo\, NY\, 14203\, United States
CATEGORIES:Sports
ATTACH;FMTTYPE=image/jpeg:https://bornbuffalo.com/wp-content/uploads/2024/06/Lawn-Sign-Fundraiser-Lets-Go-Buffalo-300x300-1.jpg
END:VEVENT
BEGIN:VEVENT
DTSTART;TZID=America/New_York:20241205T190000
DTEND;TZID=America/New_York:20241205T220000
DTSTAMP:20260421T235406
CREATED:20240912T150901Z
LAST-MODIFIED:20240912T150901Z
UID:16497-1733425200-1733436000@bornbuffalo.com
SUMMARY:Jets @ Sabres
DESCRIPTION:Buy your tickets online! Winnipeg Jets @ Buffalo Sabres | 7:00pm\, Thursday 12/05/2024
URL:https://bornbuffalo.com/event/jets-sabres/
LOCATION:KeyBank Center\, 1 Seymour H Knox III Plaza\, Buffalo\, NY\, 14203\, United States
CATEGORIES:Sports
ATTACH;FMTTYPE=image/jpeg:https://bornbuffalo.com/wp-content/uploads/2024/06/Lawn-Sign-Fundraiser-Lets-Go-Buffalo-300x300-1.jpg
END:VEVENT
BEGIN:VEVENT
DTSTART;TZID=America/New_York:20241203T190000
DTEND;TZID=America/New_York:20241203T220000
DTSTAMP:20260421T235406
CREATED:20240912T150900Z
LAST-MODIFIED:20240912T150900Z
UID:16496-1733252400-1733263200@bornbuffalo.com
SUMMARY:Avalanche @ Sabres
DESCRIPTION:Buy your tickets online! Colorado Avalanche @ Buffalo Sabres | 7:00pm\, Tuesday 12/03/2024
URL:https://bornbuffalo.com/event/avalanche-sabres/
LOCATION:KeyBank Center\, 1 Seymour H Knox III Plaza\, Buffalo\, NY\, 14203\, United States
CATEGORIES:Sports
ATTACH;FMTTYPE=image/jpeg:https://bornbuffalo.com/wp-content/uploads/2024/06/Lawn-Sign-Fundraiser-Lets-Go-Buffalo-300x300-1.jpg
END:VEVENT
BEGIN:VEVENT
DTSTART;TZID=America/New_York:20241201T202000
DTEND;TZID=America/New_York:20241201T232000
DTSTAMP:20260421T235406
CREATED:20240910T134249Z
LAST-MODIFIED:20240910T141754Z
UID:16347-1733084400-1733095200@bornbuffalo.com
SUMMARY:49ers @ Bills
DESCRIPTION:Buy your tickets online! San Francisco 49ers @ Buffalo Bills | 8:20pm\, Sunday 12/01/2024
URL:https://bornbuffalo.com/event/49ers-bills/
LOCATION:Highmark Stadium\, 1 Bills Dr\, Orchard Park\, 14127\, United States
CATEGORIES:Sports
ATTACH;FMTTYPE=image/jpeg:https://bornbuffalo.com/wp-content/uploads/2024/09/goilhk26dbftrcej0qad-min.jpg
END:VEVENT
BEGIN:VEVENT
DTSTART;TZID=America/New_York:20241129T150000
DTEND;TZID=America/New_York:20241129T180000
DTSTAMP:20260421T235406
CREATED:20240912T150859Z
LAST-MODIFIED:20240912T150859Z
UID:16495-1732892400-1732903200@bornbuffalo.com
SUMMARY:Canucks @ Sabres
DESCRIPTION:Buy your tickets online! Vancouver Canucks @ Buffalo Sabres | 3:00pm\, Friday 11/29/2024
URL:https://bornbuffalo.com/event/canucks-sabres/
LOCATION:KeyBank Center\, 1 Seymour H Knox III Plaza\, Buffalo\, NY\, 14203\, United States
CATEGORIES:Sports
ATTACH;FMTTYPE=image/jpeg:https://bornbuffalo.com/wp-content/uploads/2024/06/Lawn-Sign-Fundraiser-Lets-Go-Buffalo-300x300-1.jpg
END:VEVENT
BEGIN:VEVENT
DTSTART;TZID=America/New_York:20241127T190000
DTEND;TZID=America/New_York:20241127T220000
DTSTAMP:20260421T235406
CREATED:20240912T150857Z
LAST-MODIFIED:20240912T150857Z
UID:16494-1732734000-1732744800@bornbuffalo.com
SUMMARY:Wild @ Sabres
DESCRIPTION:Buy your tickets online! Minnesota Wild @ Buffalo Sabres | 7:00pm\, Wednesday 11/27/2024
URL:https://bornbuffalo.com/event/wild-sabres/
LOCATION:KeyBank Center\, 1 Seymour H Knox III Plaza\, Buffalo\, NY\, 14203\, United States
CATEGORIES:Sports
ATTACH;FMTTYPE=image/jpeg:https://bornbuffalo.com/wp-content/uploads/2024/06/Lawn-Sign-Fundraiser-Lets-Go-Buffalo-300x300-1.jpg
END:VEVENT
BEGIN:VEVENT
DTSTART;TZID=America/New_York:20241117T162500
DTEND;TZID=America/New_York:20241117T192500
DTSTAMP:20260421T235406
CREATED:20240910T134249Z
LAST-MODIFIED:20240910T142200Z
UID:16346-1731860700-1731871500@bornbuffalo.com
SUMMARY:Chiefs @ Bills
DESCRIPTION:Buy your tickets online! Kansas City Chiefs @ Buffalo Bills | 4:25pm\, Sunday 11/17/2024
URL:https://bornbuffalo.com/event/chiefs-bills/
LOCATION:Highmark Stadium\, 1 Bills Dr\, Orchard Park\, 14127\, United States
CATEGORIES:Sports
ATTACH;FMTTYPE=image/jpeg:https://bornbuffalo.com/wp-content/uploads/2024/09/goilhk26dbftrcej0qad-min.jpg
END:VEVENT
BEGIN:VEVENT
DTSTART;TZID=America/New_York:20241114T193000
DTEND;TZID=America/New_York:20241114T223000
DTSTAMP:20260421T235406
CREATED:20240912T150846Z
LAST-MODIFIED:20240912T150846Z
UID:16493-1731612600-1731623400@bornbuffalo.com
SUMMARY:Blues @ Sabres
DESCRIPTION:Buy your tickets online! St. Louis Blues @ Buffalo Sabres | 7:30pm\, Thursday 11/14/2024
URL:https://bornbuffalo.com/event/blues-sabres/
LOCATION:KeyBank Center\, 1 Seymour H Knox III Plaza\, Buffalo\, NY\, 14203\, United States
CATEGORIES:Sports
ATTACH;FMTTYPE=image/jpeg:https://bornbuffalo.com/wp-content/uploads/2024/06/Lawn-Sign-Fundraiser-Lets-Go-Buffalo-300x300-1.jpg
END:VEVENT
BEGIN:VEVENT
DTSTART;TZID=America/New_York:20241111T123000
DTEND;TZID=America/New_York:20241111T153000
DTSTAMP:20260421T235406
CREATED:20240912T150845Z
LAST-MODIFIED:20240912T150845Z
UID:16492-1731328200-1731339000@bornbuffalo.com
SUMMARY:Canadiens @ Sabres
DESCRIPTION:Buy your tickets online! Montreal Canadiens @ Buffalo Sabres | 12:30pm\, Monday 11/11/2024
URL:https://bornbuffalo.com/event/canadiens-sabres/
LOCATION:KeyBank Center\, 1 Seymour H Knox III Plaza\, Buffalo\, NY\, 14203\, United States
CATEGORIES:Sports
ATTACH;FMTTYPE=image/jpeg:https://bornbuffalo.com/wp-content/uploads/2024/06/Lawn-Sign-Fundraiser-Lets-Go-Buffalo-300x300-1.jpg
END:VEVENT
BEGIN:VEVENT
DTSTART;TZID=America/New_York:20241109T130000
DTEND;TZID=America/New_York:20241109T160000
DTSTAMP:20260421T235406
CREATED:20240912T150844Z
LAST-MODIFIED:20240912T150844Z
UID:16491-1731157200-1731168000@bornbuffalo.com
SUMMARY:Flames @ Sabres
DESCRIPTION:Buy your tickets online! Calgary Flames @ Buffalo Sabres | 1:00pm\, Saturday 11/09/2024
URL:https://bornbuffalo.com/event/flames-sabres/
LOCATION:KeyBank Center\, 1 Seymour H Knox III Plaza\, Buffalo\, NY\, 14203\, United States
CATEGORIES:Sports
ATTACH;FMTTYPE=image/jpeg:https://bornbuffalo.com/wp-content/uploads/2024/06/Lawn-Sign-Fundraiser-Lets-Go-Buffalo-300x300-1.jpg
END:VEVENT
BEGIN:VEVENT
DTSTART;TZID=America/New_York:20241108T193000
DTEND;TZID=America/New_York:20241108T193000
DTSTAMP:20260421T235406
CREATED:20240910T210710Z
LAST-MODIFIED:20240910T210711Z
UID:16434-1731094200-1731094200@bornbuffalo.com
SUMMARY:WWE Friday Night Smackdown
DESCRIPTION:WWE Friday Night Smackdown\n\n\nFri / Nov 8\n\n\n7:45 PM EST\n\nBuy Tickets\nParking\n\n\nEvent Information\n\nFRIDAY\, NOVEMBER 8\, 2024\, AT 07:45 PM \nKEYBANK CENTER – BUFFALO\, NY \n\nFriday Night Smackdown is coming to Buffalo\, NY. Don’t miss WWE stars Cody Rhodes\, Randy Orton\, LA Knight\, WWE Women’s Tag Team Champions Bianca Belair & Jade Cargill\, Bayley\, and more!* \n*Card is subject to change*
URL:https://bornbuffalo.com/event/wwe-friday-night-smackdown/
LOCATION:KeyBank Center\, 1 Seymour H Knox III Plaza\, Buffalo\, NY\, 14203\, United States
CATEGORIES:Buffalo Event,Family,Sports,Theater
ATTACH;FMTTYPE=image/jpeg:https://bornbuffalo.com/wp-content/uploads/2024/09/WWE.jpg
END:VEVENT
BEGIN:VEVENT
DTSTART;TZID=America/New_York:20241105T190000
DTEND;TZID=America/New_York:20241105T220000
DTSTAMP:20260421T235406
CREATED:20240912T150842Z
LAST-MODIFIED:20240912T150842Z
UID:16490-1730833200-1730844000@bornbuffalo.com
SUMMARY:Senators @ Sabres
DESCRIPTION:Buy your tickets online! Ottawa Senators @ Buffalo Sabres | 7:00pm\, Tuesday 11/05/2024
URL:https://bornbuffalo.com/event/senators-sabres/
LOCATION:KeyBank Center\, 1 Seymour H Knox III Plaza\, Buffalo\, NY\, 14203\, United States
CATEGORIES:Sports
ATTACH;FMTTYPE=image/jpeg:https://bornbuffalo.com/wp-content/uploads/2024/06/Lawn-Sign-Fundraiser-Lets-Go-Buffalo-300x300-1.jpg
END:VEVENT
BEGIN:VEVENT
DTSTART;TZID=America/New_York:20241103T130000
DTEND;TZID=America/New_York:20241103T160000
DTSTAMP:20260421T235406
CREATED:20240910T134249Z
LAST-MODIFIED:20240910T141838Z
UID:16345-1730638800-1730649600@bornbuffalo.com
SUMMARY:Dolphins @ Bills
DESCRIPTION:Buy your tickets online! Miami Dolphins @ Buffalo Bills | 1:00pm\, Sunday 11/03/2024
URL:https://bornbuffalo.com/event/dolphins-bills/
LOCATION:Highmark Stadium\, 1 Bills Dr\, Orchard Park\, 14127\, United States
CATEGORIES:Sports
ATTACH;FMTTYPE=image/jpeg:https://bornbuffalo.com/wp-content/uploads/2024/09/goilhk26dbftrcej0qad-min.jpg
END:VEVENT
BEGIN:VEVENT
DTSTART;TZID=America/New_York:20241101T190000
DTEND;TZID=America/New_York:20241101T220000
DTSTAMP:20260421T235406
CREATED:20240912T150841Z
LAST-MODIFIED:20240912T150841Z
UID:16489-1730487600-1730498400@bornbuffalo.com
SUMMARY:Islanders @ Sabres
DESCRIPTION:Buy your tickets online! New York Islanders @ Buffalo Sabres | 7:00pm\, Friday 11/01/2024
URL:https://bornbuffalo.com/event/islanders-sabres/
LOCATION:KeyBank Center\, 1 Seymour H Knox III Plaza\, Buffalo\, NY\, 14203\, United States
CATEGORIES:Sports
ATTACH;FMTTYPE=image/jpeg:https://bornbuffalo.com/wp-content/uploads/2024/06/Lawn-Sign-Fundraiser-Lets-Go-Buffalo-300x300-1.jpg
END:VEVENT
END:VCALENDAR