BEGIN:VCALENDAR
VERSION:2.0
PRODID:-//Born Buffalo - ECPv6.15.20//NONSGML v1.0//EN
CALSCALE:GREGORIAN
METHOD:PUBLISH
X-WR-CALNAME:Born Buffalo
X-ORIGINAL-URL:https://bornbuffalo.com
X-WR-CALDESC:Events for Born Buffalo
REFRESH-INTERVAL;VALUE=DURATION:PT1H
X-Robots-Tag:noindex
X-PUBLISHED-TTL:PT1H
BEGIN:VTIMEZONE
TZID:America/New_York
BEGIN:DAYLIGHT
TZOFFSETFROM:-0500
TZOFFSETTO:-0400
TZNAME:EDT
DTSTART:20240310T070000
END:DAYLIGHT
BEGIN:STANDARD
TZOFFSETFROM:-0400
TZOFFSETTO:-0500
TZNAME:EST
DTSTART:20241103T060000
END:STANDARD
BEGIN:DAYLIGHT
TZOFFSETFROM:-0500
TZOFFSETTO:-0400
TZNAME:EDT
DTSTART:20250309T070000
END:DAYLIGHT
BEGIN:STANDARD
TZOFFSETFROM:-0400
TZOFFSETTO:-0500
TZNAME:EST
DTSTART:20251102T060000
END:STANDARD
BEGIN:DAYLIGHT
TZOFFSETFROM:-0500
TZOFFSETTO:-0400
TZNAME:EDT
DTSTART:20260308T070000
END:DAYLIGHT
BEGIN:STANDARD
TZOFFSETFROM:-0400
TZOFFSETTO:-0500
TZNAME:EST
DTSTART:20261101T060000
END:STANDARD
END:VTIMEZONE
BEGIN:VEVENT
DTSTART;TZID=America/New_York:20250606T193000
DTEND;TZID=America/New_York:20250606T193000
DTSTAMP:20260422T190145
CREATED:20241205T211016Z
LAST-MODIFIED:20241205T211136Z
UID:19676-1749238200-1749238200@bornbuffalo.com
SUMMARY:Crazy for You
DESCRIPTION:Crazy for You\n\n\n\n\n\n\n\n\n\nMusic and Lyrics by\nGeorge Gershwin and Ira Gershwin \n\n\n\n\nCo-Conception by\nKen Ludwig and Mike Ockrent \n\n\n\n\nOriginally Produced on Broadway by\nRoger Horchow and Elizabeth Williams \n\n\n\n\n\n\n\n\n\n\nBook by\nKen Ludwig \n\n\n\n\nInspired by Material by\nGuy Bolton and John McGowan \n\n\n\n\nOriginal Broadway Choreography by\nSusan Stroman \n\n\n\n\n\n\n\n\n\nThis throwback musical from the early 90s is reminiscent of the effervescent hits from early Broadway. A zany rich-boy-meets-hometown-girl romantic comedy\, Crazy For You tells the story of young New York banker Bobby Child\, who is sent to Deadrock\, Nevada\, to foreclose on a rundown theater. In Deadrock\, Bobby falls for spunky Polly Baker\, the theater owner’s daughter. But Polly takes an instant dislike to the city slicker\, so Bobby vows – through cunning\, razzmatazz\, and a hilarious case of mistaken identity – to win Polly’s heart and save the theater. Memorable Gershwin tunes from the score include “I Got Rhythm\,” “Embraceable You\,” and “Someone to Watch Over Me.”
URL:https://bornbuffalo.com/event/crazy-for-you/
LOCATION:Lancaster Opera House\, 21 Central Avenue\, Lancaster\, NY\, 14086\, United States
CATEGORIES:Theater
ATTACH;FMTTYPE=image/webp:https://bornbuffalo.com/wp-content/uploads/2024/12/cfy-show-featured.webp
END:VEVENT
BEGIN:VEVENT
DTSTART;TZID=America/New_York:20250530T193000
DTEND;TZID=America/New_York:20250530T193000
DTSTAMP:20260422T190145
CREATED:20250512T193427Z
LAST-MODIFIED:20250512T195021Z
UID:25756-1748633400-1748633400@bornbuffalo.com
SUMMARY:CROCODILE FEVER
DESCRIPTION:Crocodile Fever is a darkly comic and fiercely captivating play by Meghan Tyler\, set in rural Camlough\, South Armagh\, Northern Ireland\, in August 1989. The story follows the reunion of two estranged sisters\, Alannah and Fianna Devlin\, who return to their family home after the death of their tyrannical father. As they confront their shared traumatic past\, the play delves into themes of sisterhood\, trauma\, and the lingering effects of The Troubles. The production is directed by ICTC Artistic Director Keelie A. Sheridan and features a creative team that includes scenic designer Primo Thomas\, costume designer E.L. Hohn\, and sound designer Mason Beggs.
URL:https://bornbuffalo.com/event/crocodile-fever/
LOCATION:Irish Classical Theatre Company\, 625 Main St\, Buffalo\, NY 14203\, Buffalo\, NY\, 14203\, United States
CATEGORIES:Theater
ATTACH;FMTTYPE=image/png:https://bornbuffalo.com/wp-content/uploads/2025/05/croc.png
END:VEVENT
END:VCALENDAR