BEGIN:VCALENDAR
VERSION:2.0
PRODID:-//Born Buffalo - ECPv6.15.20//NONSGML v1.0//EN
CALSCALE:GREGORIAN
METHOD:PUBLISH
X-WR-CALNAME:Born Buffalo
X-ORIGINAL-URL:https://bornbuffalo.com
X-WR-CALDESC:Events for Born Buffalo
REFRESH-INTERVAL;VALUE=DURATION:PT1H
X-Robots-Tag:noindex
X-PUBLISHED-TTL:PT1H
BEGIN:VTIMEZONE
TZID:America/New_York
BEGIN:DAYLIGHT
TZOFFSETFROM:-0500
TZOFFSETTO:-0400
TZNAME:EDT
DTSTART:20220313T070000
END:DAYLIGHT
BEGIN:STANDARD
TZOFFSETFROM:-0400
TZOFFSETTO:-0500
TZNAME:EST
DTSTART:20221106T060000
END:STANDARD
BEGIN:DAYLIGHT
TZOFFSETFROM:-0500
TZOFFSETTO:-0400
TZNAME:EDT
DTSTART:20230312T070000
END:DAYLIGHT
BEGIN:STANDARD
TZOFFSETFROM:-0400
TZOFFSETTO:-0500
TZNAME:EST
DTSTART:20231105T060000
END:STANDARD
BEGIN:DAYLIGHT
TZOFFSETFROM:-0500
TZOFFSETTO:-0400
TZNAME:EDT
DTSTART:20240310T070000
END:DAYLIGHT
BEGIN:STANDARD
TZOFFSETFROM:-0400
TZOFFSETTO:-0500
TZNAME:EST
DTSTART:20241103T060000
END:STANDARD
BEGIN:DAYLIGHT
TZOFFSETFROM:-0500
TZOFFSETTO:-0400
TZNAME:EDT
DTSTART:20250309T070000
END:DAYLIGHT
BEGIN:STANDARD
TZOFFSETFROM:-0400
TZOFFSETTO:-0500
TZNAME:EST
DTSTART:20251102T060000
END:STANDARD
END:VTIMEZONE
BEGIN:VEVENT
DTSTART;TZID=America/New_York:20231125T100000
DTEND;TZID=America/New_York:20231125T160000
DTSTAMP:20260422T234405
CREATED:20231125T133203Z
LAST-MODIFIED:20231125T133217Z
UID:6780-1700906400-1700928000@bornbuffalo.com
SUMMARY:Textile Curiosities
DESCRIPTION:Textile Curiosities\nStep into a world where art and nature converge in a display of faux-taxidermy moth and butterfly sculptures. Aleah Ford\, known as “Moth On The Wall\,” invites you to experience the enchanting realm of these ephemeral creatures through her meticulously crafted works. In this exhibition\, Aleah’s sculptures come to life using textiles\, wire\, faux fur\, clay\, and flocking. The sculptures are presented within shadow boxes\, reminiscent of Victorian curiosity cabinets\, inviting viewers to step back in time to an era of exploration and discovery. Each box offers a glimpse into the fascinating world of the Lepidoptera.
URL:https://bornbuffalo.com/event/textile-curiosities/
LOCATION:Botanical Gardens\, 2655 South Park Avenue\, Buffalo\, NY\, 14218-1526\, United States
CATEGORIES:Buffalo Event,Speaker,Workshop
ATTACH;FMTTYPE=image/jpeg:https://bornbuffalo.com/wp-content/uploads/2023/11/Textile_Curiosities.jpeg
END:VEVENT
BEGIN:VEVENT
DTSTART;TZID=America/New_York:20241114T180000
DTEND;TZID=America/New_York:20241114T190000
DTSTAMP:20260422T234405
CREATED:20240907T135256Z
LAST-MODIFIED:20240909T135158Z
UID:16045-1731607200-1731610800@bornbuffalo.com
SUMMARY:Holiday Card Linocut Workshop
DESCRIPTION:Holiday Card Linocut Workshop\n\nNovember 14\, 6:00 pm – 8:00 pm\nCost: $45/ticket | $40.50/member\n\nExplore linocut printmaking! Use carving tools to create your own unique rubber print block and Holiday Card. Discover this century old process while drawing inspiration from our beautiful Poinsettia Exhibit. Participants will be guided through the entire process of sketching\, carving\, and printing. All supplies are included. Registration Closes on November 11.\n \n‌ \nMeet your instructor\, Liz! \n \nLiz is a new face at the Botanical Gardens\, joining our team in April of 2023 as our Educator and\nProgram Coordinator. Liz graduated with a Bachelor of Arts in Art History with Museum Studies from\nNiagara University. She is passionate about museum education and is excited to bring her creativity to the\ngardens. Her special interests include Botanical Illustration\, Impressionism\, and the history of Land Art.\nPrior to joining the Botanical Gardens’ team\, Liz worked in the department of Art and Family Programs for\nseveral years at Artpark in Lewiston\, NY and has interned with multiple galleries including the Buffalo AKG\nArt Museum. Liz is also an artist herself\, her love for botany and nature shines through her personal\nartwork. She is very much looking forward to getting the public inspired by the gardens and offering\ncreative workshops. In her spare time Liz enjoys drawing\, painting\, traveling\, drinking coffee\, visiting\nmuseums\, and taking care of her many houseplants!
URL:https://bornbuffalo.com/event/holiday-card-linocut-workshop/
LOCATION:Botanical Gardens\, 2655 South Park Avenue\, Buffalo\, NY\, 14218-1526\, United States
CATEGORIES:Art Event,Buffalo Event,Holiday,Workshop
ATTACH;FMTTYPE=image/jpeg:https://bornbuffalo.com/wp-content/uploads/2024/09/Holiday-Linocut-Workshop-Identity-1-2048x1365-1.jpg
END:VEVENT
END:VCALENDAR