BEGIN:VCALENDAR
VERSION:2.0
PRODID:-//Born Buffalo - ECPv6.15.20//NONSGML v1.0//EN
CALSCALE:GREGORIAN
METHOD:PUBLISH
X-ORIGINAL-URL:https://bornbuffalo.com
X-WR-CALDESC:Events for Born Buffalo
REFRESH-INTERVAL;VALUE=DURATION:PT1H
X-Robots-Tag:noindex
X-PUBLISHED-TTL:PT1H
BEGIN:VTIMEZONE
TZID:America/New_York
BEGIN:DAYLIGHT
TZOFFSETFROM:-0500
TZOFFSETTO:-0400
TZNAME:EDT
DTSTART:20240310T070000
END:DAYLIGHT
BEGIN:STANDARD
TZOFFSETFROM:-0400
TZOFFSETTO:-0500
TZNAME:EST
DTSTART:20241103T060000
END:STANDARD
BEGIN:DAYLIGHT
TZOFFSETFROM:-0500
TZOFFSETTO:-0400
TZNAME:EDT
DTSTART:20250309T070000
END:DAYLIGHT
BEGIN:STANDARD
TZOFFSETFROM:-0400
TZOFFSETTO:-0500
TZNAME:EST
DTSTART:20251102T060000
END:STANDARD
BEGIN:DAYLIGHT
TZOFFSETFROM:-0500
TZOFFSETTO:-0400
TZNAME:EDT
DTSTART:20260308T070000
END:DAYLIGHT
BEGIN:STANDARD
TZOFFSETFROM:-0400
TZOFFSETTO:-0500
TZNAME:EST
DTSTART:20261101T060000
END:STANDARD
END:VTIMEZONE
BEGIN:VEVENT
DTSTART;TZID=America/New_York:20250530T190000
DTEND;TZID=America/New_York:20250530T190000
DTSTAMP:20260422T012807
CREATED:20241206T130644Z
LAST-MODIFIED:20250424T182953Z
UID:19737-1748631600-1748631600@bornbuffalo.com
SUMMARY:Masterclass with Tim McAllister\, saxophone
DESCRIPTION:Masterclass with Tim McAllister\, saxophone\n\n\nThe Buffalo Philharmonic Orchestra hosts incredible guest artists each year on our Classics Series. We make many of these masters available to the community in our Masterclass series. These artists will work one-on-one with talented local students in front of a live audience. All events are FREE with a required reservation. \nLearn more about saxophonist Tim McAllister. \nMusically advanced high school and college students are invited to apply as a performer for these classes. All applications require a private instructor’s nomination and an audio recording. \n\n\n\n\n\n\n\n\nPlease send application and recording to rpudlewski@bpo.org. \nDEADLINE: May 2\, 2025\nMaterials must be received by this date to be considered. All applicants notified by May 16th.  \nQuestions:\nRachael Pudlewski\nAssociate Director of Education\n(716) 242-7822 or rpudlewski@bpo.org
URL:https://bornbuffalo.com/event/masterclass-with-tim-mcallister-saxophone/
LOCATION:Clement House\, 786 Delaware Ave.\, Buffalo\, NY\, 14209\, United States
CATEGORIES:Workshop
ATTACH;FMTTYPE=image/webp:https://bornbuffalo.com/wp-content/uploads/2024/12/Timothy-McAllister-Masterclass.webp
END:VEVENT
END:VCALENDAR