BEGIN:VCALENDAR
VERSION:2.0
PRODID:-//Born Buffalo - ECPv6.15.20//NONSGML v1.0//EN
CALSCALE:GREGORIAN
METHOD:PUBLISH
X-ORIGINAL-URL:https://bornbuffalo.com
X-WR-CALDESC:Events for Born Buffalo
REFRESH-INTERVAL;VALUE=DURATION:PT1H
X-Robots-Tag:noindex
X-PUBLISHED-TTL:PT1H
BEGIN:VTIMEZONE
TZID:America/New_York
BEGIN:DAYLIGHT
TZOFFSETFROM:-0500
TZOFFSETTO:-0400
TZNAME:EDT
DTSTART:20230312T070000
END:DAYLIGHT
BEGIN:STANDARD
TZOFFSETFROM:-0400
TZOFFSETTO:-0500
TZNAME:EST
DTSTART:20231105T060000
END:STANDARD
BEGIN:DAYLIGHT
TZOFFSETFROM:-0500
TZOFFSETTO:-0400
TZNAME:EDT
DTSTART:20240310T070000
END:DAYLIGHT
BEGIN:STANDARD
TZOFFSETFROM:-0400
TZOFFSETTO:-0500
TZNAME:EST
DTSTART:20241103T060000
END:STANDARD
BEGIN:DAYLIGHT
TZOFFSETFROM:-0500
TZOFFSETTO:-0400
TZNAME:EDT
DTSTART:20250309T070000
END:DAYLIGHT
BEGIN:STANDARD
TZOFFSETFROM:-0400
TZOFFSETTO:-0500
TZNAME:EST
DTSTART:20251102T060000
END:STANDARD
BEGIN:DAYLIGHT
TZOFFSETFROM:-0500
TZOFFSETTO:-0400
TZNAME:EDT
DTSTART:20260308T070000
END:DAYLIGHT
BEGIN:STANDARD
TZOFFSETFROM:-0400
TZOFFSETTO:-0500
TZNAME:EST
DTSTART:20261101T060000
END:STANDARD
BEGIN:DAYLIGHT
TZOFFSETFROM:-0500
TZOFFSETTO:-0400
TZNAME:EDT
DTSTART:20270314T070000
END:DAYLIGHT
BEGIN:STANDARD
TZOFFSETFROM:-0400
TZOFFSETTO:-0500
TZNAME:EST
DTSTART:20271107T060000
END:STANDARD
END:VTIMEZONE
BEGIN:VEVENT
DTSTART;TZID=America/New_York:20240918T160000
DTEND;TZID=America/New_York:20240918T200000
DTSTAMP:20260425T084721
CREATED:20240906T132927Z
LAST-MODIFIED:20240906T132937Z
UID:15995-1726675200-1726689600@bornbuffalo.com
SUMMARY:Unwind Wednesdays
DESCRIPTION:Unwind Wednesdays\n\nUnwind in our Botanical Gardens after work on the third Wednesday of each month. \nWe all know that the hustle and bustle of our day-to-day lives can be stressful and tiring\, which is exactly why we’re inviting you to join us for Unwind Wednesdays! Join us during the third week of each month as we open the conservatory from 4pm until 8pm to give you the opportunity to unplug in a quiet oasis. Read a book\, write a journal entry\, listen to music\, sketch\, meditate\, or just rest in the peaceful embrace of our conservatory. Chairs and seating will be available for you to plant yourself wherever you’d like inside the greenhouses. This “middle of the week” break is a perfect way to unwind and retreat from reality. These evenings are intended to provide a quiet and non-disruptive environment recommended for ages 16 and up. \n\nUpcoming Events\n \nSeptember 18\, 4:00 pm – 8:00 pm \nOctober 16\, 4:00 pm – 8:00 pm \nDecember 18\, 4:00 pm – 8:00 pm
URL:https://bornbuffalo.com/event/unwind-wednesdays/
LOCATION:Botanical Gardens\, 2655 South Park Avenue\, Buffalo\, NY\, 14218-1526\, United States
CATEGORIES:Book,Buffalo Event
ATTACH;FMTTYPE=image/jpeg:https://bornbuffalo.com/wp-content/uploads/2024/09/Unwind-Wednesdays-Identity-2048x1365-1.jpg
END:VEVENT
BEGIN:VEVENT
DTSTART;TZID=America/New_York:20260317T120000
DTEND;TZID=America/New_York:20260317T120000
DTSTAMP:20260425T084721
CREATED:20231203T115020Z
LAST-MODIFIED:20240315T171037Z
UID:7125-1773748800-1773748800@bornbuffalo.com
SUMMARY:2026 NCAA Men’s Basketball Tournament
DESCRIPTION:2026 NCAA Men’s Basketball Tournament\nThe City of Buffalo and KeyBank Center will host the 2026 NCAA Division I Men’s Basketball First and Second rounds\, the NCAA announced Wednesday.  \nCanisius College\, along with the Metro Atlantic Athletic Conference (MAAC) and Niagara University\, will once again serve as the host group for the event. As previously announced in April 2017\, the group will host the 2022 NCAA Division I Men’s Basketball Tournament First and Second rounds as well. Those games will be played at KeyBank Center March 17 and 19\, 2022.
URL:https://bornbuffalo.com/event/2026-ncaa-mens-basketball-tournament/
LOCATION:KeyBank Center\, 1 Seymour H Knox III Plaza\, Buffalo\, NY\, 14203\, United States
CATEGORIES:Buffalo Event,Family,Sports
ATTACH;FMTTYPE=image/png:https://bornbuffalo.com/wp-content/uploads/2023/12/NCAA.png
END:VEVENT
END:VCALENDAR